BEGIN:VCALENDAR
VERSION:2.0
PRODID:-//Ocean City MD Property Management - ECPv5.12.3//NONSGML v1.0//EN
CALSCALE:GREGORIAN
METHOD:PUBLISH
X-WR-CALNAME:Ocean City MD Property Management
X-ORIGINAL-URL:https://ocmannproperties.com
X-WR-CALDESC:Events for Ocean City MD Property Management
BEGIN:VTIMEZONE
TZID:America/New_York
BEGIN:DAYLIGHT
TZOFFSETFROM:-0500
TZOFFSETTO:-0400
TZNAME:EDT
DTSTART:20230312T070000
END:DAYLIGHT
BEGIN:STANDARD
TZOFFSETFROM:-0400
TZOFFSETTO:-0500
TZNAME:EST
DTSTART:20231105T060000
END:STANDARD
END:VTIMEZONE
BEGIN:VEVENT
DTSTART;TZID=America/New_York:20230412T103000
DTEND;TZID=America/New_York:20230412T113000
DTSTAMP:20260423T172002
CREATED:20230412T091852Z
LAST-MODIFIED:20230412T091852Z
UID:2097934-1681295400-1681299000@ocmannproperties.com
SUMMARY:Sensory Stay & Play
DESCRIPTION:Learn through exploration\, curiosity\, and creativity during our sensory stay and play at the Ocean City branch of the Worcester County Library. Get ready to squish\, build\, splash\, shake\, and scoop through several fun stations. Great for children ages 2 to 5 years. \n 
URL:https://ocmannproperties.com/event/sensory-stay-play/
END:VEVENT
END:VCALENDAR