BEGIN:VCALENDAR
VERSION:2.0
PRODID:-//Ocean City MD Property Management - ECPv5.12.3//NONSGML v1.0//EN
CALSCALE:GREGORIAN
METHOD:PUBLISH
X-WR-CALNAME:Ocean City MD Property Management
X-ORIGINAL-URL:https://ocmannproperties.com
X-WR-CALDESC:Events for Ocean City MD Property Management
BEGIN:VTIMEZONE
TZID:America/New_York
BEGIN:DAYLIGHT
TZOFFSETFROM:-0500
TZOFFSETTO:-0400
TZNAME:EDT
DTSTART:20170312T070000
END:DAYLIGHT
BEGIN:STANDARD
TZOFFSETFROM:-0400
TZOFFSETTO:-0500
TZNAME:EST
DTSTART:20171105T060000
END:STANDARD
END:VTIMEZONE
BEGIN:VEVENT
DTSTART;TZID=America/New_York:20170917T100000
DTEND;TZID=America/New_York:20170917T120000
DTSTAMP:20260425T064813
CREATED:20170917T085831Z
LAST-MODIFIED:20170917T085831Z
UID:2089332-1505642400-1505649600@ocmannproperties.com
SUMMARY:September Sailing Clinic
DESCRIPTION:Ever Want To Learn To Sail?\n \nImagine skimming across the water hearing only the hum of the water passing beneath you. No loud motors\, no gasoline fumes.  You are truly the captain of the vessel!\n \nLearn how rewarding sailing can be in this three-session\, hands-on workshop. Your instructor has over 20 years of experience teaching sailing and showing people the fun of being on the water with only mother nature.  The goal of this workshop is FUN!\n \nThe first session will be in the classroom learning boat basics and sailing theory. And the other tow sessions will be on- water\, learning to read the wind\, plan your course and practicing your tacking techniques.  The course will be taught on a comfortable\, shallow-draft 17 foot daysailor.  Perfect for the waters of our inland bays.\n \nCost $180.00\nReservations Required – Please call 302-539-7999\nYou must be available for all dates; both the scheduled and make-up dates. \n \nMake-Up Dates: September 30 & October 1
URL:https://ocmannproperties.com/event/september-sailing-clinic/
END:VEVENT
END:VCALENDAR