BEGIN:VCALENDAR
VERSION:2.0
PRODID:-//Ocean City MD Property Management - ECPv5.12.3//NONSGML v1.0//EN
CALSCALE:GREGORIAN
METHOD:PUBLISH
X-WR-CALNAME:Ocean City MD Property Management
X-ORIGINAL-URL:https://ocmannproperties.com
X-WR-CALDESC:Events for Ocean City MD Property Management
BEGIN:VTIMEZONE
TZID:America/New_York
BEGIN:DAYLIGHT
TZOFFSETFROM:-0500
TZOFFSETTO:-0400
TZNAME:EDT
DTSTART:20210314T070000
END:DAYLIGHT
BEGIN:STANDARD
TZOFFSETFROM:-0400
TZOFFSETTO:-0500
TZNAME:EST
DTSTART:20211107T060000
END:STANDARD
END:VTIMEZONE
BEGIN:VEVENT
DTSTART;TZID=America/New_York:20210509T150000
DTEND;TZID=America/New_York:20210509T190000
DTSTAMP:20260423T084521
CREATED:20210509T085856Z
LAST-MODIFIED:20210509T085856Z
UID:2096466-1620572400-1620586800@ocmannproperties.com
SUMMARY:Shortcut Sunny
DESCRIPTION:Acoustic\, soulful\, chill favorites are exactly what you will experience from Shortcut Sunny while he is on the patio at Coconuts Beach Bar and Grill. With a sound that appeals to a wide age-range\, this act puts their own spin on cover songs\, both well known & eclectic. Occassionally adding a percussionist to work as a duo\, Sunny is primarily a solo act (guitar/vocals). While capable of simply strumming and singing all your favorites\, he makes extensive use of modern looping  techniques & guitar effects to get a fuller sound and also to create instrumental only versions of pop songs. With a deep repertoire and a broad vocal range\, no two sets or shows are ever the same. \n \n 
URL:https://ocmannproperties.com/event/shortcut-sunny-3/
END:VEVENT
END:VCALENDAR