BEGIN:VCALENDAR
VERSION:2.0
PRODID:-//Ocean City MD Property Management - ECPv5.12.3//NONSGML v1.0//EN
CALSCALE:GREGORIAN
METHOD:PUBLISH
X-WR-CALNAME:Ocean City MD Property Management
X-ORIGINAL-URL:https://ocmannproperties.com
X-WR-CALDESC:Events for Ocean City MD Property Management
BEGIN:VTIMEZONE
TZID:America/New_York
BEGIN:DAYLIGHT
TZOFFSETFROM:-0500
TZOFFSETTO:-0400
TZNAME:EDT
DTSTART:20200308T070000
END:DAYLIGHT
BEGIN:STANDARD
TZOFFSETFROM:-0400
TZOFFSETTO:-0500
TZNAME:EST
DTSTART:20201101T060000
END:STANDARD
END:VTIMEZONE
BEGIN:VEVENT
DTSTART;TZID=America/New_York:20200201T140000
DTEND;TZID=America/New_York:20200201T180000
DTSTAMP:20260423T004116
CREATED:20200201T210049Z
LAST-MODIFIED:20200201T210049Z
UID:2094750-1580565600-1580580000@ocmannproperties.com
SUMMARY:Side Project
DESCRIPTION:Side Project is an acoustic band that performs around Ocean City\, MD. In the mood for rock\, rap and country? 80’s and Top 40? A little Eminem\, Baby Got Back and Wagon Wheel? We’ve got you covered.
URL:https://ocmannproperties.com/event/side-project-6/
END:VEVENT
END:VCALENDAR