BEGIN:VCALENDAR
VERSION:2.0
PRODID:-//Ocean City MD Property Management - ECPv5.12.3//NONSGML v1.0//EN
CALSCALE:GREGORIAN
METHOD:PUBLISH
X-WR-CALNAME:Ocean City MD Property Management
X-ORIGINAL-URL:https://ocmannproperties.com
X-WR-CALDESC:Events for Ocean City MD Property Management
BEGIN:VTIMEZONE
TZID:America/New_York
BEGIN:DAYLIGHT
TZOFFSETFROM:-0500
TZOFFSETTO:-0400
TZNAME:EDT
DTSTART:20220313T070000
END:DAYLIGHT
BEGIN:STANDARD
TZOFFSETFROM:-0400
TZOFFSETTO:-0500
TZNAME:EST
DTSTART:20221106T060000
END:STANDARD
END:VTIMEZONE
BEGIN:VEVENT
DTSTART;TZID=America/New_York:20220516T160000
DTEND;TZID=America/New_York:20220516T200000
DTSTAMP:20260424T071941
CREATED:20220516T090313Z
LAST-MODIFIED:20220516T090313Z
UID:2097253-1652716800-1652731200@ocmannproperties.com
SUMMARY:Smooth & Remy Band
DESCRIPTION:Coconuts Beach Bar & Grill is where you will find Joe Smooth and John Remy\, with a saxophone and a guitar\, Joe and John bring you roots\, rock and reggae!  
URL:https://ocmannproperties.com/event/smooth-remy-band-3/
END:VEVENT
END:VCALENDAR