BEGIN:VCALENDAR
VERSION:2.0
PRODID:-//Ocean City MD Property Management - ECPv5.12.3//NONSGML v1.0//EN
CALSCALE:GREGORIAN
METHOD:PUBLISH
X-WR-CALNAME:Ocean City MD Property Management
X-ORIGINAL-URL:https://ocmannproperties.com
X-WR-CALDESC:Events for Ocean City MD Property Management
BEGIN:VTIMEZONE
TZID:America/New_York
BEGIN:DAYLIGHT
TZOFFSETFROM:-0500
TZOFFSETTO:-0400
TZNAME:EDT
DTSTART:20190310T070000
END:DAYLIGHT
BEGIN:STANDARD
TZOFFSETFROM:-0400
TZOFFSETTO:-0500
TZNAME:EST
DTSTART:20191103T060000
END:STANDARD
END:VTIMEZONE
BEGIN:VEVENT
DTSTART;TZID=America/New_York:20191005T073000
DTEND;TZID=America/New_York:20191005T170000
DTSTAMP:20260423T062217
CREATED:20191005T205835Z
LAST-MODIFIED:20191005T205835Z
UID:2094498-1570260600-1570294800@ocmannproperties.com
SUMMARY:Spartan Race
DESCRIPTION:Challenge yourself and join the Spartan Race on October 5th in Ocean City\, Maryland. This is the shortest distance race\, but a favorite among new and returning Spartan racers. The Ocean City Sprint delivers 20 obstacles over 3 miles. When you finish the race\, you’re 1/3 on your Spartan TRIFECTA: the ultimate Spartan achievement.  \n \nParking will be off-site and all racers will be shuttled in by buses. \n \nRace Schedule:\n7:30am Elite Men\n7:45am Elite Women\n8am – 8:30am Age Group Start Times\n8:45am – 12:45pm Morning Start Times\n1:00pm Afternoon Start Times Begin\nLast Heat: will be announced 10 days prior to event\nStarting at 7:30am\, waves of 15 racers will be released every minute.
URL:https://ocmannproperties.com/event/spartan-race-2/
END:VEVENT
END:VCALENDAR