BEGIN:VCALENDAR
VERSION:2.0
PRODID:-//Ocean City MD Property Management - ECPv5.12.3//NONSGML v1.0//EN
CALSCALE:GREGORIAN
METHOD:PUBLISH
X-WR-CALNAME:Ocean City MD Property Management
X-ORIGINAL-URL:https://ocmannproperties.com
X-WR-CALDESC:Events for Ocean City MD Property Management
BEGIN:VTIMEZONE
TZID:America/New_York
BEGIN:DAYLIGHT
TZOFFSETFROM:-0500
TZOFFSETTO:-0400
TZNAME:EDT
DTSTART:20220313T070000
END:DAYLIGHT
BEGIN:STANDARD
TZOFFSETFROM:-0400
TZOFFSETTO:-0500
TZNAME:EST
DTSTART:20221106T060000
END:STANDARD
END:VTIMEZONE
BEGIN:VEVENT
DTSTART;TZID=America/New_York:20220505T100000
DTEND;TZID=America/New_York:20220505T200000
DTSTAMP:20260424T091355
CREATED:20220505T090049Z
LAST-MODIFIED:20220505T090049Z
UID:2097228-1651744800-1651780800@ocmannproperties.com
SUMMARY:Springfest Festival
DESCRIPTION:Springfest 2022 celebrates Spring and the upcoming summer season in Ocean City\, Maryland! \nIt is four dynamic days of delicious food\, live entertainment and unique arts and crafts under four huge big top tents located in the Inlet Lot at the south end of Ocean City’s famous Boardwalk. \nSpringfest serves up a continuous variety of musical performances on two stages.  \nAdmission to the four day event is free! All entertainment is free with the exception of the headline acts.
URL:https://ocmannproperties.com/event/springfest-festival-5/
END:VEVENT
END:VCALENDAR