BEGIN:VCALENDAR
VERSION:2.0
PRODID:-//Ocean City MD Property Management - ECPv5.12.3//NONSGML v1.0//EN
CALSCALE:GREGORIAN
METHOD:PUBLISH
X-WR-CALNAME:Ocean City MD Property Management
X-ORIGINAL-URL:https://ocmannproperties.com
X-WR-CALDESC:Events for Ocean City MD Property Management
BEGIN:VTIMEZONE
TZID:America/New_York
BEGIN:DAYLIGHT
TZOFFSETFROM:-0500
TZOFFSETTO:-0400
TZNAME:EDT
DTSTART:20190310T070000
END:DAYLIGHT
BEGIN:STANDARD
TZOFFSETFROM:-0400
TZOFFSETTO:-0500
TZNAME:EST
DTSTART:20191103T060000
END:STANDARD
END:VTIMEZONE
BEGIN:VEVENT
DTSTART;TZID=America/New_York:20190316T000000
DTEND;TZID=America/New_York:20190316T000000
DTSTAMP:20260423T183615
CREATED:20190316T205848Z
LAST-MODIFIED:20190316T205848Z
UID:2094095-1552694400-1552694400@ocmannproperties.com
SUMMARY:St. Patrick's Day Parade & Festival
DESCRIPTION:Much anticipated Ocean City event! Everyone loves to be Irish at Ocean City’s famous parade. Marching units\, floats\, local celebrities. The Parade procession begins at noon at 60th Street and marches south on Coastal Highway to the 44th Street  Shopping Center where the viewing and judging stands will be located. \n \nAt the 44th Street Village\, a fun Irish-American festival is held with food\, drink and merriment.  \n \nTrophies will be awarded for best marching band\, best commercial float\, best non commercial float\, best motorized unit\, best adult marching unit\, best youth marching unit\, special committee award\, judges’ choice award and best overall entry in the parade.\n \nThe 45th Street Shopping Center will once again be transformed into a spirited Irish festival complete with live entertainment from Kevin O’Brennan and the Shoreline Band\, Irish apparel\, raffles and plenty of food and drink.\n \nFor more information\, contact Buck Mann at 410-289-6156.
URL:https://ocmannproperties.com/event/st-patricks-day-parade-festival-2/
END:VEVENT
END:VCALENDAR