BEGIN:VCALENDAR
VERSION:2.0
PRODID:-//Ocean City MD Property Management - ECPv5.12.3//NONSGML v1.0//EN
CALSCALE:GREGORIAN
METHOD:PUBLISH
X-WR-CALNAME:Ocean City MD Property Management
X-ORIGINAL-URL:https://ocmannproperties.com
X-WR-CALDESC:Events for Ocean City MD Property Management
BEGIN:VTIMEZONE
TZID:America/New_York
BEGIN:DAYLIGHT
TZOFFSETFROM:-0500
TZOFFSETTO:-0400
TZNAME:EDT
DTSTART:20170312T070000
END:DAYLIGHT
BEGIN:STANDARD
TZOFFSETFROM:-0400
TZOFFSETTO:-0500
TZNAME:EST
DTSTART:20171105T060000
END:STANDARD
END:VTIMEZONE
BEGIN:VEVENT
DTSTART;VALUE=DATE:20170505
DTEND;VALUE=DATE:20170506
DTSTAMP:20260425T121020
CREATED:20170505T210042Z
LAST-MODIFIED:20170505T210042Z
UID:2089040-1493942400-1494028799@ocmannproperties.com
SUMMARY:Stitcher's Spring Retreat
DESCRIPTION:Join us for a fun filled weekend of stitching at the beach.  Bring your UFO’s to finish\,  share ideas\, or to just stitch all weekend without any interruptions.  This weekend is dedicated strictly to stitching!\n \nPlease call Salty Yarns to make your reservation\, (410) 289-4667.
URL:https://ocmannproperties.com/event/stitchers-spring-retreat-2/
END:VEVENT
END:VCALENDAR