BEGIN:VCALENDAR
VERSION:2.0
PRODID:-//Ocean City MD Property Management - ECPv5.12.3//NONSGML v1.0//EN
CALSCALE:GREGORIAN
METHOD:PUBLISH
X-WR-CALNAME:Ocean City MD Property Management
X-ORIGINAL-URL:https://ocmannproperties.com
X-WR-CALDESC:Events for Ocean City MD Property Management
BEGIN:VTIMEZONE
TZID:America/New_York
BEGIN:DAYLIGHT
TZOFFSETFROM:-0500
TZOFFSETTO:-0400
TZNAME:EDT
DTSTART:20220313T070000
END:DAYLIGHT
BEGIN:STANDARD
TZOFFSETFROM:-0400
TZOFFSETTO:-0500
TZNAME:EST
DTSTART:20221106T060000
END:STANDARD
END:VTIMEZONE
BEGIN:VEVENT
DTSTART;TZID=America/New_York:20220613T100000
DTEND;TZID=America/New_York:20220613T150000
DTSTAMP:20260424T092628
CREATED:20220613T205931Z
LAST-MODIFIED:20220613T205931Z
UID:2097310-1655114400-1655132400@ocmannproperties.com
SUMMARY:Strategy for Fostering your Creative Spirit with Kevin Fitzgerald
DESCRIPTION:This workshop will feature exercises to enhance your creativity\, followed by the students painting with help to each individual student.  Demos will be in oil but all mediums are welcome!\n \nKevin’s painting is inspired by the works of the old masters as they relate to current forms. He believes that through painting one can become especially aware of the beauty around us.\n \n$135 for members\, $170 for non members
URL:https://ocmannproperties.com/event/strategy-for-fostering-your-creative-spirit-with-kevin-fitzgerald-2/
END:VEVENT
END:VCALENDAR