BEGIN:VCALENDAR
VERSION:2.0
PRODID:-//Ocean City MD Property Management - ECPv5.12.3//NONSGML v1.0//EN
CALSCALE:GREGORIAN
METHOD:PUBLISH
X-WR-CALNAME:Ocean City MD Property Management
X-ORIGINAL-URL:https://ocmannproperties.com
X-WR-CALDESC:Events for Ocean City MD Property Management
BEGIN:VTIMEZONE
TZID:America/New_York
BEGIN:DAYLIGHT
TZOFFSETFROM:-0500
TZOFFSETTO:-0400
TZNAME:EDT
DTSTART:20220313T070000
END:DAYLIGHT
BEGIN:STANDARD
TZOFFSETFROM:-0400
TZOFFSETTO:-0500
TZNAME:EST
DTSTART:20221106T060000
END:STANDARD
END:VTIMEZONE
BEGIN:VEVENT
DTSTART;TZID=America/New_York:20220608T103000
DTEND;TZID=America/New_York:20220608T113000
DTSTAMP:20260424T091147
CREATED:20220608T210127Z
LAST-MODIFIED:20220608T210127Z
UID:2097300-1654684200-1654687800@ocmannproperties.com
SUMMARY:Summer Reading Programs
DESCRIPTION:Reading and fun every Wednesday\, this summer with the Ocean City Library’s Summer Reading Program.   Featuring story time for ages 2 to 5\, make or take craft activities for ages 4 and up and fun for adults too!   \nCheck the full schedule below: \nJune 15\, 2:00 pm: The Amazing Shell \nJune 22\, 2:00 pm: Grace O’Malley The Pirate Queen\nJune 29\, 11:30 am: Read and Swim with a Lifeguard (on the beach at Caroline Street\, rain location at the OC Beach Patrol on Talbot Street\n \nJune Story Times: (Ages 2 – 5)\nJune 1\, 10:30 am: Leaping Frogs\nJune 8\, 10:30 am: Once Upon A Time\nJune 13\, 10:30 am: Dinosaurs\nJune 21\, 4:00pm:Sensory Story Time (Ages 3 to 7)\n \nJuly 6\, 10:30 am: OMazing Yoga Adventure\nJuly 13\, 10:30 am: Coastal Habiitats\nJuly 20\, 11:30 am: Read and Swim with a Lifeguard\nJuly 27\, 10:30 am: Tom Lilly – One-Step MagiCompany\n \nJuly Story Times: (Ages 2 – 5)\nJuly 11\, 10:30 am: Sharks\nJuly 19\, 4:00 pm: Sensory Story Time \nJuly 25\, 10:30 am: A Camping We Will Go! \n\n \n 
URL:https://ocmannproperties.com/event/summer-reading-programs-2/
END:VEVENT
END:VCALENDAR