BEGIN:VCALENDAR
VERSION:2.0
PRODID:-//Ocean City MD Property Management - ECPv5.12.3//NONSGML v1.0//EN
CALSCALE:GREGORIAN
METHOD:PUBLISH
X-WR-CALNAME:Ocean City MD Property Management
X-ORIGINAL-URL:https://ocmannproperties.com
X-WR-CALDESC:Events for Ocean City MD Property Management
BEGIN:VTIMEZONE
TZID:America/New_York
BEGIN:DAYLIGHT
TZOFFSETFROM:-0500
TZOFFSETTO:-0400
TZNAME:EDT
DTSTART:20200308T070000
END:DAYLIGHT
BEGIN:STANDARD
TZOFFSETFROM:-0400
TZOFFSETTO:-0500
TZNAME:EST
DTSTART:20201101T060000
END:STANDARD
END:VTIMEZONE
BEGIN:VEVENT
DTSTART;TZID=America/New_York:20200606T080000
DTEND;TZID=America/New_York:20200606T140000
DTSTAMP:20260422T181117
CREATED:20200606T205837Z
LAST-MODIFIED:20200606T205837Z
UID:2095015-1591430400-1591452000@ocmannproperties.com
SUMMARY:Summer Surf Series #2 - ESA Delmarva
DESCRIPTION:The Eastern Surfing Association (ESA) is dedicated to the sport of amateur surfing and to the establishment and preservation of free access to clean shores!   \n \nThe Delmarva District of the ESA began in 1969 by a small group of Ocean City\, MD surfers\, and its first Directors were Al and Skill Johnson.  Today surfers from DE\, MD and Virginia’s Eastern Shore compete within the Delmarva ESA District.\n \nThe Delmarva District encourages participation by surfers of all ages\, and all skill levels.  ESA Delmarva depends on the volunteer service of the District Directors and all of the member volunteers who help provide fun\, efficient and skill building surf contests!
URL:https://ocmannproperties.com/event/summer-surf-series-2-esa-delmarva-2/
END:VEVENT
END:VCALENDAR