BEGIN:VCALENDAR
VERSION:2.0
PRODID:-//Ocean City MD Property Management - ECPv5.12.3//NONSGML v1.0//EN
CALSCALE:GREGORIAN
METHOD:PUBLISH
X-WR-CALNAME:Ocean City MD Property Management
X-ORIGINAL-URL:https://ocmannproperties.com
X-WR-CALDESC:Events for Ocean City MD Property Management
BEGIN:VTIMEZONE
TZID:America/New_York
BEGIN:DAYLIGHT
TZOFFSETFROM:-0500
TZOFFSETTO:-0400
TZNAME:EDT
DTSTART:20200308T070000
END:DAYLIGHT
BEGIN:STANDARD
TZOFFSETFROM:-0400
TZOFFSETTO:-0500
TZNAME:EST
DTSTART:20201101T060000
END:STANDARD
END:VTIMEZONE
BEGIN:VEVENT
DTSTART;TZID=America/New_York:20200614T190000
DTEND;TZID=America/New_York:20200614T210000
DTSTAMP:20260422T181427
CREATED:20200614T091706Z
LAST-MODIFIED:20200614T091706Z
UID:2095031-1592161200-1592168400@ocmannproperties.com
SUMMARY:Sundaes in the Park in Ocean City MD - POSTPONED
DESCRIPTION:Sundaes in the Park is the perfect way to wrap up the weekend in Ocean City MD. Bring the family to Northside Park in North Ocean City each Sunday evening in the summer for free live concert\, family fun activities\, and delicious ice cream sundaes. \n \nBring your picnic basket and beach chairs and watch the Ocean City sunset over the bay while enjoying live music for every taste\, from country to rock and tribute bands to oldies. During the concert\, enjoy ice cream and family activities for the kids. \n \nThe night ends with a fireworks display at approximately 9pm. \n \nSave the Dates – 2020 Schedule:\n \nJune 14: \nJune 21: \nJune 28: \nJuly 5: \nJuly 12: \nJuly 19: \nJuly 26: \nAugust 2: \nAugust 9: \nAugust 16: \nAugust 23: \nAugust 30:\nSeptember 6: \n \nIn the event of inclement weather\, the concert may be moved inside. For more information\, call 800-626-2326.\n\n 
URL:https://ocmannproperties.com/event/sundaes-in-the-park-in-ocean-city-md-postponed/
END:VEVENT
END:VCALENDAR