BEGIN:VCALENDAR
VERSION:2.0
PRODID:-//Ocean City MD Property Management - ECPv5.12.3//NONSGML v1.0//EN
CALSCALE:GREGORIAN
METHOD:PUBLISH
X-WR-CALNAME:Ocean City MD Property Management
X-ORIGINAL-URL:https://ocmannproperties.com
X-WR-CALDESC:Events for Ocean City MD Property Management
BEGIN:VTIMEZONE
TZID:America/New_York
BEGIN:DAYLIGHT
TZOFFSETFROM:-0500
TZOFFSETTO:-0400
TZNAME:EDT
DTSTART:20210314T070000
END:DAYLIGHT
BEGIN:STANDARD
TZOFFSETFROM:-0400
TZOFFSETTO:-0500
TZNAME:EST
DTSTART:20211107T060000
END:STANDARD
END:VTIMEZONE
BEGIN:VEVENT
DTSTART;TZID=America/New_York:20210822T090000
DTEND;TZID=America/New_York:20210822T130000
DTSTAMP:20260420T204333
CREATED:20210822T205835Z
LAST-MODIFIED:20210822T205835Z
UID:2096697-1629622800-1629637200@ocmannproperties.com
SUMMARY:Sunday Brunch Revival Party with DJ Wax
DESCRIPTION:Sunday Brunch Revival Party anyone? DJ Wax\, giving us those awesome beats during Sunday Brunch at Coins Pub!  Delicious brunch including creme brulee\, french toast\, eggs benedict\, steak and eggs\, crabcakes and more. \n \nBottomless Mimosas and Bloody Marys ~ $20
URL:https://ocmannproperties.com/event/sunday-brunch-revival-party-with-dj-wax-10/
END:VEVENT
END:VCALENDAR