BEGIN:VCALENDAR
VERSION:2.0
PRODID:-//Ocean City MD Property Management - ECPv5.12.3//NONSGML v1.0//EN
CALSCALE:GREGORIAN
METHOD:PUBLISH
X-WR-CALNAME:Ocean City MD Property Management
X-ORIGINAL-URL:https://ocmannproperties.com
X-WR-CALDESC:Events for Ocean City MD Property Management
BEGIN:VTIMEZONE
TZID:America/New_York
BEGIN:DAYLIGHT
TZOFFSETFROM:-0500
TZOFFSETTO:-0400
TZNAME:EDT
DTSTART:20200308T070000
END:DAYLIGHT
BEGIN:STANDARD
TZOFFSETFROM:-0400
TZOFFSETTO:-0500
TZNAME:EST
DTSTART:20201101T060000
END:STANDARD
END:VTIMEZONE
BEGIN:VEVENT
DTSTART;VALUE=DATE:20201001
DTEND;VALUE=DATE:20201002
DTSTAMP:20260422T183647
CREATED:20201001T205905Z
LAST-MODIFIED:20201001T205905Z
UID:2095251-1601510400-1601596799@ocmannproperties.com
SUMMARY:Sunfest Kite Festival
DESCRIPTION:Bring the family and let your spirits soar! Enjoy four days filled with spectacular kite-flying. Thousands of spectators travel to see master kite flyers from around the world showcase their aerial displays of art \, kite-making workshops and kite battles.\n \nPlease keep in mind that all events are wind and weather permitting. 
URL:https://ocmannproperties.com/event/sunfest-kite-festival-4/
END:VEVENT
END:VCALENDAR