BEGIN:VCALENDAR
VERSION:2.0
PRODID:-//Ocean City MD Property Management - ECPv5.12.3//NONSGML v1.0//EN
CALSCALE:GREGORIAN
METHOD:PUBLISH
X-WR-CALNAME:Ocean City MD Property Management
X-ORIGINAL-URL:https://ocmannproperties.com
X-WR-CALDESC:Events for Ocean City MD Property Management
BEGIN:VTIMEZONE
TZID:America/New_York
BEGIN:DAYLIGHT
TZOFFSETFROM:-0500
TZOFFSETTO:-0400
TZNAME:EDT
DTSTART:20200308T070000
END:DAYLIGHT
BEGIN:STANDARD
TZOFFSETFROM:-0400
TZOFFSETTO:-0500
TZNAME:EST
DTSTART:20201101T060000
END:STANDARD
END:VTIMEZONE
BEGIN:VEVENT
DTSTART;VALUE=DATE:20201002
DTEND;VALUE=DATE:20201003
DTSTAMP:20260422T182847
CREATED:20201002T205834Z
LAST-MODIFIED:20201002T205834Z
UID:2095253-1601596800-1601683199@ocmannproperties.com
SUMMARY:SunFun OC at Trimper's Rides
DESCRIPTION:Labor Day marks the end of summer for many\, but in Ocean City\, Maryland summer is a state of mind that can’t be constrained by a calendar.In pursuit of the endless summer\, Trimper’s has waited to announce its best celebration of the year\, a new annual family and Covid friendly festival\, SunFunOC coming to Ocean City! With food\, music\, arts and crafts vendors and $2 all games and rides for the kids\, SunFunOC is the best way to end the summer!SunFunOC offers a positive family-friendly experiences while adhering to Covid restrictions and safety protocols.Find unique crafts and foods in the Park and at the sidewalk sale in the Inlet Village.
URL:https://ocmannproperties.com/event/sunfun-oc-at-trimpers-rides-2/
END:VEVENT
END:VCALENDAR