BEGIN:VCALENDAR
VERSION:2.0
PRODID:-//Ocean City MD Property Management - ECPv5.12.3//NONSGML v1.0//EN
CALSCALE:GREGORIAN
METHOD:PUBLISH
X-WR-CALNAME:Ocean City MD Property Management
X-ORIGINAL-URL:https://ocmannproperties.com
X-WR-CALDESC:Events for Ocean City MD Property Management
BEGIN:VTIMEZONE
TZID:America/New_York
BEGIN:DAYLIGHT
TZOFFSETFROM:-0500
TZOFFSETTO:-0400
TZNAME:EDT
DTSTART:20170312T070000
END:DAYLIGHT
BEGIN:STANDARD
TZOFFSETFROM:-0400
TZOFFSETTO:-0500
TZNAME:EST
DTSTART:20171105T060000
END:STANDARD
END:VTIMEZONE
BEGIN:VEVENT
DTSTART;TZID=America/New_York:20170205T140000
DTEND;TZID=America/New_York:20170205T180000
DTSTAMP:20260425T175236
CREATED:20170205T210117Z
LAST-MODIFIED:20170205T210117Z
UID:2088721-1486303200-1486317600@ocmannproperties.com
SUMMARY:Super Tailgate Party
DESCRIPTION:Super Tailgate Party with Teenage Rust and the Fabulous Rustettes.  Food and drink specials will be offered and the game will be playing on HD TVs.
URL:https://ocmannproperties.com/event/super-tailgate-party/
END:VEVENT
END:VCALENDAR