BEGIN:VCALENDAR
VERSION:2.0
PRODID:-//Ocean City MD Property Management - ECPv5.12.3//NONSGML v1.0//EN
CALSCALE:GREGORIAN
METHOD:PUBLISH
X-WR-CALNAME:Ocean City MD Property Management
X-ORIGINAL-URL:https://ocmannproperties.com
X-WR-CALDESC:Events for Ocean City MD Property Management
BEGIN:VTIMEZONE
TZID:America/New_York
BEGIN:DAYLIGHT
TZOFFSETFROM:-0500
TZOFFSETTO:-0400
TZNAME:EDT
DTSTART:20170312T070000
END:DAYLIGHT
BEGIN:STANDARD
TZOFFSETFROM:-0400
TZOFFSETTO:-0500
TZNAME:EST
DTSTART:20171105T060000
END:STANDARD
END:VTIMEZONE
BEGIN:VEVENT
DTSTART;TZID=America/New_York:20170601T042500
DTEND;TZID=America/New_York:20170601T044200
DTSTAMP:20260425T102653
CREATED:20170601T205843Z
LAST-MODIFIED:20170601T205843Z
UID:2089095-1496291100-1496292120@ocmannproperties.com
SUMMARY:Terrier-Improved Malemute Launch
DESCRIPTION:Watch an exciting rocket launching from NASA’s Wallops Flight Facility!  Most launches can be seen from Ocean City\, with optimal viewing at the Inlet\, facing south. \n \nThe launch window is from 4:25 – 4:42am May 31 – June 6.\n \nFor up to date information on launch time\, follow Wallops Flight Facility on twitter.\n \nIn addition\, every launch is streamed live through our Ustream account available via web cast. Just visit click here to get live coverage streamed to any device!
URL:https://ocmannproperties.com/event/terrier-improved-malemute-launch-2/
END:VEVENT
END:VCALENDAR