BEGIN:VCALENDAR
VERSION:2.0
PRODID:-//Ocean City MD Property Management - ECPv5.12.3//NONSGML v1.0//EN
CALSCALE:GREGORIAN
METHOD:PUBLISH
X-WR-CALNAME:Ocean City MD Property Management
X-ORIGINAL-URL:https://ocmannproperties.com
X-WR-CALDESC:Events for Ocean City MD Property Management
BEGIN:VTIMEZONE
TZID:America/New_York
BEGIN:DAYLIGHT
TZOFFSETFROM:-0500
TZOFFSETTO:-0400
TZNAME:EDT
DTSTART:20170312T070000
END:DAYLIGHT
BEGIN:STANDARD
TZOFFSETFROM:-0400
TZOFFSETTO:-0500
TZNAME:EST
DTSTART:20171105T060000
END:STANDARD
END:VTIMEZONE
BEGIN:VEVENT
DTSTART;TZID=America/New_York:20170831T090000
DTEND;TZID=America/New_York:20170831T210000
DTSTAMP:20260425T064625
CREATED:20170831T085834Z
LAST-MODIFIED:20170831T085834Z
UID:2089298-1504170000-1504213200@ocmannproperties.com
SUMMARY:Test Drive Thursdays
DESCRIPTION:Every 30 minutes\, carded players will be randomly selected to win $50 Slot Dollars and “test drive” one of our newest slot machines.  \n \nMust be 21 years of age. 
URL:https://ocmannproperties.com/event/test-drive-thursdays/
END:VEVENT
END:VCALENDAR