BEGIN:VCALENDAR
VERSION:2.0
PRODID:-//Ocean City MD Property Management - ECPv5.12.3//NONSGML v1.0//EN
CALSCALE:GREGORIAN
METHOD:PUBLISH
X-WR-CALNAME:Ocean City MD Property Management
X-ORIGINAL-URL:https://ocmannproperties.com
X-WR-CALDESC:Events for Ocean City MD Property Management
BEGIN:VTIMEZONE
TZID:America/New_York
BEGIN:DAYLIGHT
TZOFFSETFROM:-0500
TZOFFSETTO:-0400
TZNAME:EDT
DTSTART:20210314T070000
END:DAYLIGHT
BEGIN:STANDARD
TZOFFSETFROM:-0400
TZOFFSETTO:-0500
TZNAME:EST
DTSTART:20211107T060000
END:STANDARD
END:VTIMEZONE
BEGIN:VEVENT
DTSTART;TZID=America/New_York:20210516T160000
DTEND;TZID=America/New_York:20210516T200000
DTSTAMP:20260423T084400
CREATED:20210516T090106Z
LAST-MODIFIED:20210516T090106Z
UID:2096480-1621180800-1621195200@ocmannproperties.com
SUMMARY:Test Kitchen
DESCRIPTION:Test Kitchen is a sometimes-acoustic-duo\, sometimes-trio hailing from Salisbury\, MD.\n \nArrive a little early and enjoy Happy Hour from 3 to 6pm! Happy Hour from 3-6pm\n \nRaw Bar Happy Hour Specials:\n$1 Oysters\n1 1/4 LB. Lobster $23\n \n 
URL:https://ocmannproperties.com/event/test-kitchen-8/
END:VEVENT
END:VCALENDAR