BEGIN:VCALENDAR
VERSION:2.0
PRODID:-//Ocean City MD Property Management - ECPv5.12.3//NONSGML v1.0//EN
CALSCALE:GREGORIAN
METHOD:PUBLISH
X-WR-CALNAME:Ocean City MD Property Management
X-ORIGINAL-URL:https://ocmannproperties.com
X-WR-CALDESC:Events for Ocean City MD Property Management
BEGIN:VTIMEZONE
TZID:America/New_York
BEGIN:DAYLIGHT
TZOFFSETFROM:-0500
TZOFFSETTO:-0400
TZNAME:EDT
DTSTART:20180311T070000
END:DAYLIGHT
BEGIN:STANDARD
TZOFFSETFROM:-0400
TZOFFSETTO:-0500
TZNAME:EST
DTSTART:20181104T060000
END:STANDARD
END:VTIMEZONE
BEGIN:VEVENT
DTSTART;TZID=America/New_York:20181215T000000
DTEND;TZID=America/New_York:20181215T000000
DTSTAMP:20260424T021135
CREATED:20181215T090036Z
LAST-MODIFIED:20181215T090036Z
UID:2093910-1544832000-1544832000@ocmannproperties.com
SUMMARY:The Glass Onion Band
DESCRIPTION:Glass Onion is Delaware’s Premier Party Band and tonight they are live and on our stage!  Established in 2000\, Glass Onion performs covers of Rock and Roll and R&B dance music at venues throughout Delaware\, Maryland\, and Pennsylvania. Their mix of popular tunes ranges from 1950 to 2017. From Jerry Lee Lewis and The Temptations to Lynyrd Skynyrd and Bruno Mars. Everyone is sure to find themselves singing along and dancing the night away!\n \n \nNo Cover!
URL:https://ocmannproperties.com/event/the-glass-onion-band-3/
END:VEVENT
END:VCALENDAR