BEGIN:VCALENDAR
VERSION:2.0
PRODID:-//Ocean City MD Property Management - ECPv5.12.3//NONSGML v1.0//EN
CALSCALE:GREGORIAN
METHOD:PUBLISH
X-WR-CALNAME:Ocean City MD Property Management
X-ORIGINAL-URL:https://ocmannproperties.com
X-WR-CALDESC:Events for Ocean City MD Property Management
BEGIN:VTIMEZONE
TZID:America/New_York
BEGIN:DAYLIGHT
TZOFFSETFROM:-0500
TZOFFSETTO:-0400
TZNAME:EDT
DTSTART:20190310T070000
END:DAYLIGHT
BEGIN:STANDARD
TZOFFSETFROM:-0400
TZOFFSETTO:-0500
TZNAME:EST
DTSTART:20191103T060000
END:STANDARD
END:VTIMEZONE
BEGIN:VEVENT
DTSTART;TZID=America/New_York:20190906T000000
DTEND;TZID=America/New_York:20190906T000000
DTSTAMP:20260423T081130
CREATED:20190906T090039Z
LAST-MODIFIED:20190906T090039Z
UID:2094438-1567728000-1567728000@ocmannproperties.com
SUMMARY:The National Folk Festival
DESCRIPTION:The city of Salisbury\, MD invites you to the 78th National Folk Festival in Downtown Salisbury\, MD!  Started in 1934\, the National Folk Festival is the oldest\, longest running multicultural celebration in the nation.      \n \nThe festival will feature over 350 of the nation’s finest traditional performers and crafts people\, 7 stages of continuous music\, a dance pavilion\, traditional craft exhibits and demonstrations\, a festival marketplace\, storytelling\,  family activities and delicious regional and ethnic foods.  \n \nWith over 35 live bands on 7 stages\, you are sure to experience good music and fun times for the whole family.\n \nFor more information\, visit nationalfolkfestival.com or call 410-677-1917.
URL:https://ocmannproperties.com/event/the-national-folk-festival-4/
END:VEVENT
END:VCALENDAR