BEGIN:VCALENDAR
VERSION:2.0
PRODID:-//Ocean City MD Property Management - ECPv5.12.3//NONSGML v1.0//EN
CALSCALE:GREGORIAN
METHOD:PUBLISH
X-WR-CALNAME:Ocean City MD Property Management
X-ORIGINAL-URL:https://ocmannproperties.com
X-WR-CALDESC:Events for Ocean City MD Property Management
BEGIN:VTIMEZONE
TZID:America/New_York
BEGIN:DAYLIGHT
TZOFFSETFROM:-0500
TZOFFSETTO:-0400
TZNAME:EDT
DTSTART:20210314T070000
END:DAYLIGHT
BEGIN:STANDARD
TZOFFSETFROM:-0400
TZOFFSETTO:-0500
TZNAME:EST
DTSTART:20211107T060000
END:STANDARD
END:VTIMEZONE
BEGIN:VEVENT
DTSTART;TZID=America/New_York:20210129T190000
DTEND;TZID=America/New_York:20210129T210000
DTSTAMP:20260421T225107
CREATED:20210129T085834Z
LAST-MODIFIED:20210129T085834Z
UID:2095735-1611946800-1611954000@ocmannproperties.com
SUMMARY:The Office Team Trivia
DESCRIPTION:It’s time for The Office Team Trivia!  Brew River\, presents\, Pop Up Trivia; test your knowledge of The Office. Great interactive  fun for novice to expert players. Sign-in your team between 6:30 and 7:00pm. Call or email for Reservation  410-677-6757. Masks required to enter. 
URL:https://ocmannproperties.com/event/the-office-team-trivia/
END:VEVENT
END:VCALENDAR