BEGIN:VCALENDAR
VERSION:2.0
PRODID:-//Ocean City MD Property Management - ECPv5.12.3//NONSGML v1.0//EN
CALSCALE:GREGORIAN
METHOD:PUBLISH
X-WR-CALNAME:Ocean City MD Property Management
X-ORIGINAL-URL:https://ocmannproperties.com
X-WR-CALDESC:Events for Ocean City MD Property Management
BEGIN:VTIMEZONE
TZID:America/New_York
BEGIN:DAYLIGHT
TZOFFSETFROM:-0500
TZOFFSETTO:-0400
TZNAME:EDT
DTSTART:20170312T070000
END:DAYLIGHT
BEGIN:STANDARD
TZOFFSETFROM:-0400
TZOFFSETTO:-0500
TZNAME:EST
DTSTART:20171105T060000
END:STANDARD
END:VTIMEZONE
BEGIN:VEVENT
DTSTART;TZID=America/New_York:20170526T120000
DTEND;TZID=America/New_York:20170526T160000
DTSTAMP:20260425T121026
CREATED:20170526T085947Z
LAST-MODIFIED:20170526T085947Z
UID:2089082-1495800000-1495814400@ocmannproperties.com
SUMMARY:The Vigilantes Duo
DESCRIPTION:The Vigilantes are a fun and exciting cover band that plays up and down the east coast performing modern top 40 dance and all your favorite classics.  This band brings the party to every show!
URL:https://ocmannproperties.com/event/the-vigilantes-duo/
END:VEVENT
END:VCALENDAR