BEGIN:VCALENDAR
VERSION:2.0
PRODID:-//Ocean City MD Property Management - ECPv5.12.3//NONSGML v1.0//EN
CALSCALE:GREGORIAN
METHOD:PUBLISH
X-WR-CALNAME:Ocean City MD Property Management
X-ORIGINAL-URL:https://ocmannproperties.com
X-WR-CALDESC:Events for Ocean City MD Property Management
BEGIN:VTIMEZONE
TZID:America/New_York
BEGIN:DAYLIGHT
TZOFFSETFROM:-0500
TZOFFSETTO:-0400
TZNAME:EDT
DTSTART:20210314T070000
END:DAYLIGHT
BEGIN:STANDARD
TZOFFSETFROM:-0400
TZOFFSETTO:-0500
TZNAME:EST
DTSTART:20211107T060000
END:STANDARD
END:VTIMEZONE
BEGIN:VEVENT
DTSTART;TZID=America/New_York:20210612T100000
DTEND;TZID=America/New_York:20210612T230000
DTSTAMP:20260423T123100
CREATED:20210612T205830Z
LAST-MODIFIED:20210612T205830Z
UID:2096539-1623492000-1623538800@ocmannproperties.com
SUMMARY:Tides and Tempests Ocean Renaissance
DESCRIPTION:Join the crew! for a fantasy filled weekend of amazing sea themed characters from mythology\, history and literature. Meet and mingle with the magical denizens from many worlds of imagination while visiting one of the East Coast’s premier beach travel destinations Ocean City Maryland! We’re blending the enchantment of all the fantasy realms into our vision! Elements from historical reenactment \, steam punk\, sci-fi and fairy tales to create a diverse and eclectic environment for all ages. The day will be filled with merriment and end with the walk the plank fashion show followed by an incredible night of live music! \n \nAdmission Fee:\n$20 Adults\n$10 Children 13-17 Years Old\nFree Children 12 and under \n \n 
URL:https://ocmannproperties.com/event/tides-and-tempests-ocean-renaissance-2/
END:VEVENT
END:VCALENDAR