BEGIN:VCALENDAR
VERSION:2.0
PRODID:-//Ocean City MD Property Management - ECPv5.12.3//NONSGML v1.0//EN
CALSCALE:GREGORIAN
METHOD:PUBLISH
X-WR-CALNAME:Ocean City MD Property Management
X-ORIGINAL-URL:https://ocmannproperties.com
X-WR-CALDESC:Events for Ocean City MD Property Management
BEGIN:VTIMEZONE
TZID:America/New_York
BEGIN:DAYLIGHT
TZOFFSETFROM:-0500
TZOFFSETTO:-0400
TZNAME:EDT
DTSTART:20200308T070000
END:DAYLIGHT
BEGIN:STANDARD
TZOFFSETFROM:-0400
TZOFFSETTO:-0500
TZNAME:EST
DTSTART:20201101T060000
END:STANDARD
END:VTIMEZONE
BEGIN:VEVENT
DTSTART;VALUE=DATE:20200814
DTEND;VALUE=DATE:20200815
DTSTAMP:20260422T174612
CREATED:20200814T205944Z
LAST-MODIFIED:20200814T205944Z
UID:2095154-1597363200-1597449599@ocmannproperties.com
SUMMARY:Tour UA National Championship
DESCRIPTION:The 2020 4th ANNUAL TOUR SPONSORED BY UNDER ARMOUR 54 HOLE NATIONAL CHAMPIONSHIP will be played in OCEAN CITY MARYLAND! 3 spectacular courses will host the 4th annual championship! Friday\, August 14th will be played on the challenging Robert Trent Jones Course at Ocean Pines Golf Club. Saturday\, August 15th will be played on the gorgeous Lester George Design on the Newport Bay Course at Ocean City Golf Club. August 16th-Sunday’s final round will be held on the town of Ocean City’s own Eagles Landing Golf Course\, with its excellent conditions and spectacular views. This will complete the 54 Hole National Championship. 
URL:https://ocmannproperties.com/event/tour-ua-national-championship-2/
END:VEVENT
END:VCALENDAR