BEGIN:VCALENDAR
VERSION:2.0
PRODID:-//Ocean City MD Property Management - ECPv5.12.3//NONSGML v1.0//EN
CALSCALE:GREGORIAN
METHOD:PUBLISH
X-WR-CALNAME:Ocean City MD Property Management
X-ORIGINAL-URL:https://ocmannproperties.com
X-WR-CALDESC:Events for Ocean City MD Property Management
BEGIN:VTIMEZONE
TZID:America/New_York
BEGIN:DAYLIGHT
TZOFFSETFROM:-0500
TZOFFSETTO:-0400
TZNAME:EDT
DTSTART:20170312T070000
END:DAYLIGHT
BEGIN:STANDARD
TZOFFSETFROM:-0400
TZOFFSETTO:-0500
TZNAME:EST
DTSTART:20171105T060000
END:STANDARD
END:VTIMEZONE
BEGIN:VEVENT
DTSTART;TZID=America/New_York:20170222T170000
DTEND;TZID=America/New_York:20170222T200000
DTSTAMP:20260425T175348
CREATED:20170222T090240Z
LAST-MODIFIED:20170222T090240Z
UID:2088820-1487782800-1487793600@ocmannproperties.com
SUMMARY:Two Guys & a Mama
DESCRIPTION:Two Guys and a Mama’s music selections are so varied and often unique from other bands around town. With their level of musicianship\, Joe and Chris are able to quickly pick up on new songs that Dave wants to sing – he has a huge repertoire – and so there are additions to the set list constantly. Two Guys & a Mama were named the 2013 Coconut Times Entertainers of the Year.\n 
URL:https://ocmannproperties.com/event/two-guys-a-mama-3/
END:VEVENT
END:VCALENDAR