BEGIN:VCALENDAR
VERSION:2.0
PRODID:-//Ocean City MD Property Management - ECPv5.12.3//NONSGML v1.0//EN
CALSCALE:GREGORIAN
METHOD:PUBLISH
X-WR-CALNAME:Ocean City MD Property Management
X-ORIGINAL-URL:https://ocmannproperties.com
X-WR-CALDESC:Events for Ocean City MD Property Management
BEGIN:VTIMEZONE
TZID:America/New_York
BEGIN:DAYLIGHT
TZOFFSETFROM:-0500
TZOFFSETTO:-0400
TZNAME:EDT
DTSTART:20210314T070000
END:DAYLIGHT
BEGIN:STANDARD
TZOFFSETFROM:-0400
TZOFFSETTO:-0500
TZNAME:EST
DTSTART:20211107T060000
END:STANDARD
END:VTIMEZONE
BEGIN:VEVENT
DTSTART;TZID=America/New_York:20210710T130000
DTEND;TZID=America/New_York:20210710T170000
DTSTAMP:20260423T121552
CREATED:20210710T210103Z
LAST-MODIFIED:20210710T210103Z
UID:2096602-1625922000-1625936400@ocmannproperties.com
SUMMARY:Until Sunrise
DESCRIPTION:Until Sunrise is a premier party band playing the best music of the last 50 years all the way to current top radio hits!  They are a high-energy\, five-piece party band with killer riffs and four-part harmonies\, you can expect to hear everything from dance and hip hop to pop sing-alongs.
URL:https://ocmannproperties.com/event/until-sunrise-2/
END:VEVENT
END:VCALENDAR