BEGIN:VCALENDAR
VERSION:2.0
PRODID:-//Ocean City MD Property Management - ECPv5.12.3//NONSGML v1.0//EN
CALSCALE:GREGORIAN
METHOD:PUBLISH
X-WR-CALNAME:Ocean City MD Property Management
X-ORIGINAL-URL:https://ocmannproperties.com
X-WR-CALDESC:Events for Ocean City MD Property Management
BEGIN:VTIMEZONE
TZID:America/New_York
BEGIN:DAYLIGHT
TZOFFSETFROM:-0500
TZOFFSETTO:-0400
TZNAME:EDT
DTSTART:20190310T070000
END:DAYLIGHT
BEGIN:STANDARD
TZOFFSETFROM:-0400
TZOFFSETTO:-0500
TZNAME:EST
DTSTART:20191103T060000
END:STANDARD
END:VTIMEZONE
BEGIN:VEVENT
DTSTART;TZID=America/New_York:20191208T090000
DTEND;TZID=America/New_York:20191208T100000
DTSTAMP:20260423T024650
CREATED:20191208T210456Z
LAST-MODIFIED:20191208T210456Z
UID:2094630-1575795600-1575799200@ocmannproperties.com
SUMMARY:Victorian Breakfast with Santa
DESCRIPTION:Join us every Sunday and stuff yourselves on our big American Breakfast Buffet! Santa needs his strength before delivering all those toys soon so he will be joining us too!\n \nTell him what you want for Christmas and get a photo with him. Great way to start out your day and Christmas cheer!
URL:https://ocmannproperties.com/event/victorian-breakfast-with-santa-2/
END:VEVENT
END:VCALENDAR