BEGIN:VCALENDAR
VERSION:2.0
PRODID:-//Ocean City MD Property Management - ECPv5.12.3//NONSGML v1.0//EN
CALSCALE:GREGORIAN
METHOD:PUBLISH
X-WR-CALNAME:Ocean City MD Property Management
X-ORIGINAL-URL:https://ocmannproperties.com
X-WR-CALDESC:Events for Ocean City MD Property Management
BEGIN:VTIMEZONE
TZID:America/New_York
BEGIN:DAYLIGHT
TZOFFSETFROM:-0500
TZOFFSETTO:-0400
TZNAME:EDT
DTSTART:20180311T070000
END:DAYLIGHT
BEGIN:STANDARD
TZOFFSETFROM:-0400
TZOFFSETTO:-0500
TZNAME:EST
DTSTART:20181104T060000
END:STANDARD
END:VTIMEZONE
BEGIN:VEVENT
DTSTART;TZID=America/New_York:20180313T180000
DTEND;TZID=America/New_York:20180313T210000
DTSTAMP:20260424T173033
CREATED:20180313T090119Z
LAST-MODIFIED:20180313T090119Z
UID:2089688-1520964000-1520974800@ocmannproperties.com
SUMMARY:Vinyl & Pint Night
DESCRIPTION:Every Tuesday night in March; bring your vinyl and have a beer\, or two!  \nPlus\, it’s Half Price Burger Night – All burgers are half price all night long! \n \nThis Months Brewery Line Up:\nMarch 6 – Heavy Seas\nMarch 13 – Big Oyster Brewery\nMarch 20 – The Fin City Brewing Company\nMarch 27 – Robber Soul Brewing Company
URL:https://ocmannproperties.com/event/vinyl-pint-night/
END:VEVENT
END:VCALENDAR