BEGIN:VCALENDAR
VERSION:2.0
PRODID:-//Ocean City MD Property Management - ECPv5.12.3//NONSGML v1.0//EN
CALSCALE:GREGORIAN
METHOD:PUBLISH
X-WR-CALNAME:Ocean City MD Property Management
X-ORIGINAL-URL:https://ocmannproperties.com
X-WR-CALDESC:Events for Ocean City MD Property Management
BEGIN:VTIMEZONE
TZID:America/New_York
BEGIN:DAYLIGHT
TZOFFSETFROM:-0500
TZOFFSETTO:-0400
TZNAME:EDT
DTSTART:20220313T070000
END:DAYLIGHT
BEGIN:STANDARD
TZOFFSETFROM:-0400
TZOFFSETTO:-0500
TZNAME:EST
DTSTART:20221106T060000
END:STANDARD
END:VTIMEZONE
BEGIN:VEVENT
DTSTART;TZID=America/New_York:20220422T100000
DTEND;TZID=America/New_York:20220422T170000
DTSTAMP:20260424T050545
CREATED:20220422T085912Z
LAST-MODIFIED:20220422T085912Z
UID:2097202-1650621600-1650646800@ocmannproperties.com
SUMMARY:Ward World Carving Competition &  Art Festival
DESCRIPTION:Annual\nWard World Championship\, Wildfowl Carving Competition and Art Festival \n\n\n\nThe World Championship is an international event where carvers\, collectors\, and visitors convene at the end of each April in Ocean City\, MD.  From highly decorative works of art to functional hunting decoys\, about 1200 different wildfowl carvings representing more than 150 species from around the world  can be viewed at the premiere\, most prestigious competition in the world.   \nThe Ward Foundation\, the non-profit that operates the Ward Museum of Wildfowl Art\, Salisbury University\, and hosts the historic Ward World Championship Wildfowl Carving Competition & Art Festival\, has made the decision to hold a modified\, three-day event — April 22-24\, 2022 — in lieu of the regular in-person event at the Roland E. Powell Convention Center in Ocean City\, MD. Virtual modification of the competition will resemble the 2021 virtual event\, with several exciting new components and competition categories\, in addition to the return of live-streamed portions of judging.\nSchedule of Events and Hours:  \nSchedule Coming Soon  \n \n \n \n 
URL:https://ocmannproperties.com/event/ward-world-carving-competition-art-festival/
END:VEVENT
END:VCALENDAR