BEGIN:VCALENDAR
VERSION:2.0
PRODID:-//Ocean City MD Property Management - ECPv5.12.3//NONSGML v1.0//EN
CALSCALE:GREGORIAN
METHOD:PUBLISH
X-WR-CALNAME:Ocean City MD Property Management
X-ORIGINAL-URL:https://ocmannproperties.com
X-WR-CALDESC:Events for Ocean City MD Property Management
BEGIN:VTIMEZONE
TZID:America/New_York
BEGIN:DAYLIGHT
TZOFFSETFROM:-0500
TZOFFSETTO:-0400
TZNAME:EDT
DTSTART:20220313T070000
END:DAYLIGHT
BEGIN:STANDARD
TZOFFSETFROM:-0400
TZOFFSETTO:-0500
TZNAME:EST
DTSTART:20221106T060000
END:STANDARD
END:VTIMEZONE
BEGIN:VEVENT
DTSTART;TZID=America/New_York:20221103T093000
DTEND;TZID=America/New_York:20221103T123000
DTSTAMP:20260422T142223
CREATED:20221103T085837Z
LAST-MODIFIED:20221103T085837Z
UID:2097595-1667467800-1667478600@ocmannproperties.com
SUMMARY:Weaving Made Easy Class with Heidi Wetzel
DESCRIPTION:Learn to weave with colorful reed at this class for adults and children age 8 and older. Begin by adding spokes to a wooden base and then continue to weave until desired pencil holder size is reached. Embellishments will be supplied (or bring your own) which can be added. All abilities are welcome; some weaving experience is helpful. You will be able to complete one basket. Please bring a lunch. Materials and tools will be supplied. \n \n\nCost: $ 25 per child member\, $32 per child non-member\nCost: Adult plus child: $40\, Adult plus Child $50 Non-Members (Adults must be accompanied by a child)
URL:https://ocmannproperties.com/event/weaving-made-easy-class-with-heidi-wetzel/
END:VEVENT
END:VCALENDAR