BEGIN:VCALENDAR
VERSION:2.0
PRODID:-//Ocean City MD Property Management - ECPv5.12.3//NONSGML v1.0//EN
CALSCALE:GREGORIAN
METHOD:PUBLISH
X-WR-CALNAME:Ocean City MD Property Management
X-ORIGINAL-URL:https://ocmannproperties.com
X-WR-CALDESC:Events for Ocean City MD Property Management
BEGIN:VTIMEZONE
TZID:America/New_York
BEGIN:DAYLIGHT
TZOFFSETFROM:-0500
TZOFFSETTO:-0400
TZNAME:EDT
DTSTART:20240310T070000
END:DAYLIGHT
BEGIN:STANDARD
TZOFFSETFROM:-0400
TZOFFSETTO:-0500
TZNAME:EST
DTSTART:20241103T060000
END:STANDARD
END:VTIMEZONE
BEGIN:VEVENT
DTSTART;VALUE=DATE:20240805
DTEND;VALUE=DATE:20240806
DTSTAMP:20260424T022733
CREATED:20240805T212311Z
LAST-MODIFIED:20240805T212311Z
UID:2100162-1722816000-1722902399@ocmannproperties.com
SUMMARY:White Marlin Open
DESCRIPTION:The countdown is on; join us for the 51st Annual White Marlin Open from August 5 to August 9 in Ocean City\, Maryland. The fish are spectacular and the prizes are huge — totaling more than $2 million.\n \nIt’s the World’s Largest and Richest Billfish Tournament — held in the White Marlin Capital of the World.\n \nSee if you have what it takes to catch the winning white marlin and register today.\n \n\nSpectators are welcome to watch\, as 300+ boats from Florida to New England take more than 1\,500 of the world’s best anglers out to pursue some of America’s largest fish.\n \nThen check out the spectacular weigh-ins every evening from 4:00 p.m. to 9:00 p.m. at Marlin Fest on the big screen in a festival atmosphere complete with vendors\, food\, drink and entertainment for the entire family located at 3rd/4th Street Park on the bayside in downtown Ocean City..\n \n\nRegistration fees for participating boats.  Spectators\nsee weigh-ins free of charge.  \nFor more information\, call 410-289-9229 or contact@whitemarlinopen.com\,\nor visit www.whitemarlinopen.com. \n\n 
URL:https://ocmannproperties.com/event/white-marlin-open-10/
END:VEVENT
END:VCALENDAR