BEGIN:VCALENDAR
VERSION:2.0
PRODID:-//Ocean City MD Property Management - ECPv5.12.3//NONSGML v1.0//EN
CALSCALE:GREGORIAN
METHOD:PUBLISH
X-WR-CALNAME:Ocean City MD Property Management
X-ORIGINAL-URL:https://ocmannproperties.com
X-WR-CALDESC:Events for Ocean City MD Property Management
BEGIN:VTIMEZONE
TZID:America/New_York
BEGIN:DAYLIGHT
TZOFFSETFROM:-0500
TZOFFSETTO:-0400
TZNAME:EDT
DTSTART:20170312T070000
END:DAYLIGHT
BEGIN:STANDARD
TZOFFSETFROM:-0400
TZOFFSETTO:-0500
TZNAME:EST
DTSTART:20171105T060000
END:STANDARD
END:VTIMEZONE
BEGIN:VEVENT
DTSTART;VALUE=DATE:20170807
DTEND;VALUE=DATE:20170808
DTSTAMP:20260425T064618
CREATED:20170807T090242Z
LAST-MODIFIED:20170807T090242Z
UID:2089250-1502064000-1502150399@ocmannproperties.com
SUMMARY:White Marlin Open
DESCRIPTION:Join us for the 44th Annual White Marlin Open from August 7 – August 11\, 2017. The fish are spectacular and the prizes are huge — totaling more than $2 million.\n \nIt’s the World’s Largest and Richest Billfish Tournament — held in the White Marlin Capital of the World. This year the stakes are high with a record crushing $4\, 450\,000 purse and 1\,412 fish caught in 2016. Prizes are also awarded for the largest blue marlin\, tuna\, mahi-mahi (dolphin fish)\, wahoo and shark.\n \nSee if you have what it takes to catch the winning white marlin and register today.\n \n\nSpectators are welcome to watch\, as 300+ boats from Florida to New England take more than 1\,500 of the world’s best anglers out to pursue some of America’s largest fish.\n \nThen check out the spectacular weigh-ins every evening from 4:00 p.m. to 9:00 p.m. at Harbour Island Marina\, 14th Street and the bay.\n \nNOTE: Parking is not available at Harbour Island. The Presbyterian Church on 14th Street\, just a block away\, offers parking for a small donation. You can also park free at the Ocean City Convention Center\, then catch a shuttle to the weigh-ins.
URL:https://ocmannproperties.com/event/white-marlin-open/
END:VEVENT
END:VCALENDAR