BEGIN:VCALENDAR
VERSION:2.0
PRODID:-//Ocean City MD Property Management - ECPv5.12.3//NONSGML v1.0//EN
CALSCALE:GREGORIAN
METHOD:PUBLISH
X-WR-CALNAME:Ocean City MD Property Management
X-ORIGINAL-URL:https://ocmannproperties.com
X-WR-CALDESC:Events for Ocean City MD Property Management
BEGIN:VTIMEZONE
TZID:America/New_York
BEGIN:DAYLIGHT
TZOFFSETFROM:-0500
TZOFFSETTO:-0400
TZNAME:EDT
DTSTART:20170312T070000
END:DAYLIGHT
BEGIN:STANDARD
TZOFFSETFROM:-0400
TZOFFSETTO:-0500
TZNAME:EST
DTSTART:20171105T060000
END:STANDARD
END:VTIMEZONE
BEGIN:VEVENT
DTSTART;VALUE=DATE:20170624
DTEND;VALUE=DATE:20170625
DTSTAMP:20260425T121144
CREATED:20170624T205823Z
LAST-MODIFIED:20170624T205823Z
UID:2089161-1498262400-1498348799@ocmannproperties.com
SUMMARY:Wine Glass Painting Experience
DESCRIPTION:Come To T.C. Studio on June 24th to paint a pair of wine glasses to support Debby Well’s Suicide Prevention Walk Team!   Step by step painting instruction and live music.  \n \nYour choice of wine glasses or 32 oz. glass beer steins! You also have the choice of the beachy design or can free style! \n \nCost: $30 includes a pair of glasses \n($10 of each painter’s spot will be donated to Debby’s cause)\n \nMust sign up ahead
URL:https://ocmannproperties.com/event/wine-glass-painting-experience-2/
END:VEVENT
END:VCALENDAR