BEGIN:VCALENDAR
VERSION:2.0
PRODID:-//Ocean City MD Property Management - ECPv5.12.3//NONSGML v1.0//EN
CALSCALE:GREGORIAN
METHOD:PUBLISH
X-WR-CALNAME:Ocean City MD Property Management
X-ORIGINAL-URL:https://ocmannproperties.com
X-WR-CALDESC:Events for Ocean City MD Property Management
BEGIN:VTIMEZONE
TZID:America/New_York
BEGIN:DAYLIGHT
TZOFFSETFROM:-0500
TZOFFSETTO:-0400
TZNAME:EDT
DTSTART:20190310T070000
END:DAYLIGHT
BEGIN:STANDARD
TZOFFSETFROM:-0400
TZOFFSETTO:-0500
TZNAME:EST
DTSTART:20191103T060000
END:STANDARD
END:VTIMEZONE
BEGIN:VEVENT
DTSTART;TZID=America/New_York:20190313T100000
DTEND;TZID=America/New_York:20190313T120000
DTSTAMP:20260423T201305
CREATED:20190313T090510Z
LAST-MODIFIED:20190313T090510Z
UID:2094088-1552471200-1552478400@ocmannproperties.com
SUMMARY:Witty Knitters
DESCRIPTION:Knitters\,\nCrochet enthusiasts\, needle artists of all skill levels are invited and\nencouraged to join us for a casual morning of sharing. Work on your favorite\npatterns\, exchange ideas\, laugh and have a great time!
URL:https://ocmannproperties.com/event/witty-knitters-3/
END:VEVENT
END:VCALENDAR