BEGIN:VCALENDAR
VERSION:2.0
PRODID:-//Ocean City MD Property Management - ECPv5.12.3//NONSGML v1.0//EN
CALSCALE:GREGORIAN
METHOD:PUBLISH
X-WR-CALNAME:Ocean City MD Property Management
X-ORIGINAL-URL:https://ocmannproperties.com
X-WR-CALDESC:Events for Ocean City MD Property Management
BEGIN:VTIMEZONE
TZID:America/New_York
BEGIN:DAYLIGHT
TZOFFSETFROM:-0500
TZOFFSETTO:-0400
TZNAME:EDT
DTSTART:20180311T070000
END:DAYLIGHT
BEGIN:STANDARD
TZOFFSETFROM:-0400
TZOFFSETTO:-0500
TZNAME:EST
DTSTART:20181104T060000
END:STANDARD
END:VTIMEZONE
BEGIN:VEVENT
DTSTART;TZID=America/New_York:20181212T000000
DTEND;TZID=America/New_York:20181212T000000
DTSTAMP:20260424T020513
CREATED:20181212T205949Z
LAST-MODIFIED:20181212T205949Z
UID:2093905-1544572800-1544572800@ocmannproperties.com
SUMMARY:Write a Letter to Santa
DESCRIPTION:Write a letter to Santa at the Pocomoke Library. All supplies are here.  
URL:https://ocmannproperties.com/event/write-a-letter-to-santa-2/
END:VEVENT
END:VCALENDAR