BEGIN:VCALENDAR
VERSION:2.0
PRODID:-//Ocean City MD Property Management - ECPv5.12.3//NONSGML v1.0//EN
CALSCALE:GREGORIAN
METHOD:PUBLISH
X-WR-CALNAME:Ocean City MD Property Management
X-ORIGINAL-URL:https://ocmannproperties.com
X-WR-CALDESC:Events for Ocean City MD Property Management
BEGIN:VTIMEZONE
TZID:America/New_York
BEGIN:DAYLIGHT
TZOFFSETFROM:-0500
TZOFFSETTO:-0400
TZNAME:EDT
DTSTART:20190310T070000
END:DAYLIGHT
BEGIN:STANDARD
TZOFFSETFROM:-0400
TZOFFSETTO:-0500
TZNAME:EST
DTSTART:20191103T060000
END:STANDARD
END:VTIMEZONE
BEGIN:VEVENT
DTSTART;TZID=America/New_York:20190314T100000
DTEND;TZID=America/New_York:20190314T110000
DTSTAMP:20260423T183219
CREATED:20190314T205845Z
LAST-MODIFIED:20190314T205845Z
UID:2094091-1552557600-1552561200@ocmannproperties.com
SUMMARY:Yoga
DESCRIPTION:Come and rejuvenate your body with gentle yoga adapted especially for beginners as well as Seniors. An excellent way to keep both mind and body healthy and strong.  
URL:https://ocmannproperties.com/event/yoga-6/
END:VEVENT
END:VCALENDAR