BEGIN:VCALENDAR
VERSION:2.0
PRODID:-//Ocean City MD Property Management - ECPv5.12.3//NONSGML v1.0//EN
CALSCALE:GREGORIAN
METHOD:PUBLISH
X-WR-CALNAME:Ocean City MD Property Management
X-ORIGINAL-URL:https://ocmannproperties.com
X-WR-CALDESC:Events for Ocean City MD Property Management
BEGIN:VTIMEZONE
TZID:America/New_York
BEGIN:DAYLIGHT
TZOFFSETFROM:-0500
TZOFFSETTO:-0400
TZNAME:EDT
DTSTART:20200308T070000
END:DAYLIGHT
BEGIN:STANDARD
TZOFFSETFROM:-0400
TZOFFSETTO:-0500
TZNAME:EST
DTSTART:20201101T060000
END:STANDARD
END:VTIMEZONE
BEGIN:VEVENT
DTSTART;TZID=America/New_York:20200308T103000
DTEND;TZID=America/New_York:20200308T123000
DTSTAMP:20260422T212935
CREATED:20200308T090116Z
LAST-MODIFIED:20200308T090116Z
UID:2094827-1583663400-1583670600@ocmannproperties.com
SUMMARY:Youth Drop-In Basketball
DESCRIPTION:For boys and girls ages 16 and under. Grab your friends and head to the gym for some indoor court time! Basketballs are available for use. Please wear non-marking athletic shoes on the court (no black-soled shoes).\n \nWeekday drop-in times may also be offered. Call 410-641-7052 for availability.\n \nCost: $3 per person. 
URL:https://ocmannproperties.com/event/youth-drop-in-basketball-5/
END:VEVENT
END:VCALENDAR