BEGIN:VCALENDAR
VERSION:2.0
PRODID:-//Ocean City MD Property Management - ECPv5.12.3//NONSGML v1.0//EN
CALSCALE:GREGORIAN
METHOD:PUBLISH
X-WR-CALNAME:Ocean City MD Property Management
X-ORIGINAL-URL:https://ocmannproperties.com
X-WR-CALDESC:Events for Ocean City MD Property Management
BEGIN:VTIMEZONE
TZID:America/New_York
BEGIN:DAYLIGHT
TZOFFSETFROM:-0500
TZOFFSETTO:-0400
TZNAME:EDT
DTSTART:20170312T070000
END:DAYLIGHT
BEGIN:STANDARD
TZOFFSETFROM:-0400
TZOFFSETTO:-0500
TZNAME:EST
DTSTART:20171105T060000
END:STANDARD
END:VTIMEZONE
BEGIN:VEVENT
DTSTART;TZID=America/New_York:20170126T173000
DTEND;TZID=America/New_York:20170126T200000
DTSTAMP:20260425T195022
CREATED:20170120T092747Z
LAST-MODIFIED:20170120T092747Z
UID:2088681-1485451800-1485460800@ocmannproperties.com
SUMMARY:Phil Perdue - "The Piano Man" at Captain's Table
DESCRIPTION:Enjoy Phil Perdue “The Piano Man” on the grand piano at the Captain’s Table in Ocean City\, Maryland.  Enjoy fine dining at its best with famous crab cakes and great selection from the bar. 
URL:https://ocmannproperties.com/event/phil-perdue-the-piano-man-at-captains-table-5/
END:VEVENT
BEGIN:VEVENT
DTSTART;TZID=America/New_York:20170126T173000
DTEND;TZID=America/New_York:20170126T200000
DTSTAMP:20260425T195022
CREATED:20170126T091246Z
LAST-MODIFIED:20170126T091246Z
UID:2088693-1485451800-1485460800@ocmannproperties.com
SUMMARY:Phil Perdue - "The Piano Man" at Captain's Table
DESCRIPTION:Enjoy Phil Perdue “The Piano Man” on the grand piano at the Captain’s Table in Ocean City\, Maryland.  Enjoy fine dining at its best with famous crab cakes and great selection from the bar. 
URL:https://ocmannproperties.com/event/phil-perdue-the-piano-man-at-captains-table-6/
END:VEVENT
BEGIN:VEVENT
DTSTART;TZID=America/New_York:20170126T173000
DTEND;TZID=America/New_York:20170126T200000
DTSTAMP:20260425T195022
CREATED:20170126T211113Z
LAST-MODIFIED:20170126T211113Z
UID:2088694-1485451800-1485460800@ocmannproperties.com
SUMMARY:Phil Perdue - "The Piano Man" at Captain's Table
DESCRIPTION:Enjoy Phil Perdue “The Piano Man” on the grand piano at the Captain’s Table in Ocean City\, Maryland.  Enjoy fine dining at its best with famous crab cakes and great selection from the bar. 
URL:https://ocmannproperties.com/event/phil-perdue-the-piano-man-at-captains-table-7/
END:VEVENT
END:VCALENDAR