BEGIN:VCALENDAR
VERSION:2.0
PRODID:-//Ocean City MD Property Management - ECPv5.12.3//NONSGML v1.0//EN
CALSCALE:GREGORIAN
METHOD:PUBLISH
X-WR-CALNAME:Ocean City MD Property Management
X-ORIGINAL-URL:https://ocmannproperties.com
X-WR-CALDESC:Events for Ocean City MD Property Management
BEGIN:VTIMEZONE
TZID:America/New_York
BEGIN:DAYLIGHT
TZOFFSETFROM:-0500
TZOFFSETTO:-0400
TZNAME:EDT
DTSTART:20170312T070000
END:DAYLIGHT
BEGIN:STANDARD
TZOFFSETFROM:-0400
TZOFFSETTO:-0500
TZNAME:EST
DTSTART:20171105T060000
END:STANDARD
END:VTIMEZONE
BEGIN:VEVENT
DTSTART;TZID=America/New_York:20170209T140000
DTEND;TZID=America/New_York:20170209T150000
DTSTAMP:20260425T175828
CREATED:20170209T091802Z
LAST-MODIFIED:20170209T091802Z
UID:2088752-1486648800-1486652400@ocmannproperties.com
SUMMARY:Pine Needle Basket Weaving
DESCRIPTION:Learn the ancient art of pine needle basket weaving with Native American artist Dawn Manyfeathers. Registration is required. Please call the Pocomoke Library at 410-957-0878 to reserve a place. All materials supplied.
URL:https://ocmannproperties.com/event/pine-needle-basket-weaving/
END:VEVENT
BEGIN:VEVENT
DTSTART;TZID=America/New_York:20170209T140000
DTEND;TZID=America/New_York:20170209T150000
DTSTAMP:20260425T175828
CREATED:20170209T210431Z
LAST-MODIFIED:20170209T210431Z
UID:2088753-1486648800-1486652400@ocmannproperties.com
SUMMARY:Pine Needle Basket Weaving
DESCRIPTION:Learn the ancient art of pine needle basket weaving with Native American artist Dawn Manyfeathers. Registration is required. Please call the Pocomoke Library at 410-957-0878 to reserve a place. All materials supplied.
URL:https://ocmannproperties.com/event/pine-needle-basket-weaving-2/
END:VEVENT
BEGIN:VEVENT
DTSTART;TZID=America/New_York:20170209T170000
DTEND;TZID=America/New_York:20170209T210000
DTSTAMP:20260425T175828
CREATED:20170112T210351Z
LAST-MODIFIED:20170112T210351Z
UID:2088662-1486659600-1486674000@ocmannproperties.com
SUMMARY:Full Circle Duo at Seacrets
DESCRIPTION:Full Circle is a Great combination of vocals for awesome harmonies – we have lots of fun and try to make sure everyone else does too! Come hear us at Seacrets Ocean City MD!
URL:https://ocmannproperties.com/event/full-circle-duo-at-seacrets/
END:VEVENT
BEGIN:VEVENT
DTSTART;TZID=America/New_York:20170209T170000
DTEND;TZID=America/New_York:20170209T210000
DTSTAMP:20260425T175828
CREATED:20170113T092524Z
LAST-MODIFIED:20170113T092524Z
UID:2088663-1486659600-1486674000@ocmannproperties.com
SUMMARY:Full Circle Duo at Seacrets
DESCRIPTION:Full Circle is a Great combination of vocals for awesome harmonies – we have lots of fun and try to make sure everyone else does too! Come hear us at Seacrets Ocean City MD!
URL:https://ocmannproperties.com/event/full-circle-duo-at-seacrets-2/
END:VEVENT
BEGIN:VEVENT
DTSTART;TZID=America/New_York:20170209T170000
DTEND;TZID=America/New_York:20170209T210000
DTSTAMP:20260425T175828
CREATED:20170113T211400Z
LAST-MODIFIED:20170113T211400Z
UID:2088664-1486659600-1486674000@ocmannproperties.com
SUMMARY:Full Circle Duo at Seacrets
DESCRIPTION:Full Circle is a Great combination of vocals for awesome harmonies – we have lots of fun and try to make sure everyone else does too! Come hear us at Seacrets Ocean City MD!
URL:https://ocmannproperties.com/event/full-circle-duo-at-seacrets-3/
END:VEVENT
BEGIN:VEVENT
DTSTART;TZID=America/New_York:20170209T170000
DTEND;TZID=America/New_York:20170209T210000
DTSTAMP:20260425T175828
CREATED:20170114T090942Z
LAST-MODIFIED:20170114T090942Z
UID:2088665-1486659600-1486674000@ocmannproperties.com
SUMMARY:Full Circle Duo at Seacrets
DESCRIPTION:Full Circle is a Great combination of vocals for awesome harmonies – we have lots of fun and try to make sure everyone else does too! Come hear us at Seacrets Ocean City MD!
URL:https://ocmannproperties.com/event/full-circle-duo-at-seacrets-4/
END:VEVENT
BEGIN:VEVENT
DTSTART;TZID=America/New_York:20170209T170000
DTEND;TZID=America/New_York:20170209T210000
DTSTAMP:20260425T175828
CREATED:20170114T210257Z
LAST-MODIFIED:20170114T210257Z
UID:2088666-1486659600-1486674000@ocmannproperties.com
SUMMARY:Full Circle Duo at Seacrets
DESCRIPTION:Full Circle is a Great combination of vocals for awesome harmonies – we have lots of fun and try to make sure everyone else does too! Come hear us at Seacrets Ocean City MD!
URL:https://ocmannproperties.com/event/full-circle-duo-at-seacrets-5/
END:VEVENT
BEGIN:VEVENT
DTSTART;TZID=America/New_York:20170209T170000
DTEND;TZID=America/New_York:20170209T210000
DTSTAMP:20260425T175828
CREATED:20170115T090245Z
LAST-MODIFIED:20170115T090245Z
UID:2088667-1486659600-1486674000@ocmannproperties.com
SUMMARY:Full Circle Duo at Seacrets
DESCRIPTION:Full Circle is a Great combination of vocals for awesome harmonies – we have lots of fun and try to make sure everyone else does too! Come hear us at Seacrets Ocean City MD!
URL:https://ocmannproperties.com/event/full-circle-duo-at-seacrets-6/
END:VEVENT
BEGIN:VEVENT
DTSTART;TZID=America/New_York:20170209T170000
DTEND;TZID=America/New_York:20170209T210000
DTSTAMP:20260425T175828
CREATED:20170115T210454Z
LAST-MODIFIED:20170115T210454Z
UID:2088668-1486659600-1486674000@ocmannproperties.com
SUMMARY:Full Circle Duo at Seacrets
DESCRIPTION:Full Circle is a Great combination of vocals for awesome harmonies – we have lots of fun and try to make sure everyone else does too! Come hear us at Seacrets Ocean City MD!
URL:https://ocmannproperties.com/event/full-circle-duo-at-seacrets-7/
END:VEVENT
BEGIN:VEVENT
DTSTART;TZID=America/New_York:20170209T170000
DTEND;TZID=America/New_York:20170209T210000
DTSTAMP:20260425T175828
CREATED:20170116T091012Z
LAST-MODIFIED:20170116T091012Z
UID:2088669-1486659600-1486674000@ocmannproperties.com
SUMMARY:Full Circle Duo at Seacrets
DESCRIPTION:Full Circle is a Great combination of vocals for awesome harmonies – we have lots of fun and try to make sure everyone else does too! Come hear us at Seacrets Ocean City MD!
URL:https://ocmannproperties.com/event/full-circle-duo-at-seacrets-8/
END:VEVENT
BEGIN:VEVENT
DTSTART;TZID=America/New_York:20170209T170000
DTEND;TZID=America/New_York:20170209T210000
DTSTAMP:20260425T175828
CREATED:20170116T210305Z
LAST-MODIFIED:20170116T210305Z
UID:2088670-1486659600-1486674000@ocmannproperties.com
SUMMARY:Full Circle Duo at Seacrets
DESCRIPTION:Full Circle is a Great combination of vocals for awesome harmonies – we have lots of fun and try to make sure everyone else does too! Come hear us at Seacrets Ocean City MD!
URL:https://ocmannproperties.com/event/full-circle-duo-at-seacrets-9/
END:VEVENT
BEGIN:VEVENT
DTSTART;TZID=America/New_York:20170209T170000
DTEND;TZID=America/New_York:20170209T210000
DTSTAMP:20260425T175828
CREATED:20170117T090031Z
LAST-MODIFIED:20170117T090031Z
UID:2088671-1486659600-1486674000@ocmannproperties.com
SUMMARY:Full Circle Duo at Seacrets
DESCRIPTION:Full Circle is a Great combination of vocals for awesome harmonies – we have lots of fun and try to make sure everyone else does too! Come hear us at Seacrets Ocean City MD!
URL:https://ocmannproperties.com/event/full-circle-duo-at-seacrets-10/
END:VEVENT
BEGIN:VEVENT
DTSTART;TZID=America/New_York:20170209T170000
DTEND;TZID=America/New_York:20170209T210000
DTSTAMP:20260425T175828
CREATED:20170117T210313Z
LAST-MODIFIED:20170117T210313Z
UID:2088672-1486659600-1486674000@ocmannproperties.com
SUMMARY:Full Circle Duo at Seacrets
DESCRIPTION:Full Circle is a Great combination of vocals for awesome harmonies – we have lots of fun and try to make sure everyone else does too! Come hear us at Seacrets Ocean City MD!
URL:https://ocmannproperties.com/event/full-circle-duo-at-seacrets-11/
END:VEVENT
END:VCALENDAR