BEGIN:VCALENDAR
VERSION:2.0
PRODID:-//Ocean City MD Property Management - ECPv5.12.3//NONSGML v1.0//EN
CALSCALE:GREGORIAN
METHOD:PUBLISH
X-WR-CALNAME:Ocean City MD Property Management
X-ORIGINAL-URL:https://ocmannproperties.com
X-WR-CALDESC:Events for Ocean City MD Property Management
BEGIN:VTIMEZONE
TZID:America/New_York
BEGIN:DAYLIGHT
TZOFFSETFROM:-0500
TZOFFSETTO:-0400
TZNAME:EDT
DTSTART:20170312T070000
END:DAYLIGHT
BEGIN:STANDARD
TZOFFSETFROM:-0400
TZOFFSETTO:-0500
TZNAME:EST
DTSTART:20171105T060000
END:STANDARD
END:VTIMEZONE
BEGIN:VEVENT
DTSTART;TZID=America/New_York:20170223T170000
DTEND;TZID=America/New_York:20170223T210000
DTSTAMP:20260425T175909
CREATED:20170223T090048Z
LAST-MODIFIED:20170223T090048Z
UID:2088822-1487869200-1487883600@ocmannproperties.com
SUMMARY:Full Circle Duo
DESCRIPTION:Full Circle is a Great combination of vocals for awesome harmonies – we have lots of fun and try to make sure everyone else does too! Come hear us at Seacrets Ocean City MD!
URL:https://ocmannproperties.com/event/full-circle-duo/
END:VEVENT
BEGIN:VEVENT
DTSTART;TZID=America/New_York:20170223T170000
DTEND;TZID=America/New_York:20170223T210000
DTSTAMP:20260425T175909
CREATED:20170223T210707Z
LAST-MODIFIED:20170223T210707Z
UID:2088823-1487869200-1487883600@ocmannproperties.com
SUMMARY:Full Circle Duo
DESCRIPTION:Full Circle is a Great combination of vocals for awesome harmonies – we have lots of fun and try to make sure everyone else does too! Come hear us at Seacrets Ocean City MD!
URL:https://ocmannproperties.com/event/full-circle-duo-2/
END:VEVENT
END:VCALENDAR