BEGIN:VCALENDAR
VERSION:2.0
PRODID:-//Ocean City MD Property Management - ECPv5.12.3//NONSGML v1.0//EN
CALSCALE:GREGORIAN
METHOD:PUBLISH
X-WR-CALNAME:Ocean City MD Property Management
X-ORIGINAL-URL:https://ocmannproperties.com
X-WR-CALDESC:Events for Ocean City MD Property Management
BEGIN:VTIMEZONE
TZID:America/New_York
BEGIN:DAYLIGHT
TZOFFSETFROM:-0500
TZOFFSETTO:-0400
TZNAME:EDT
DTSTART:20170312T070000
END:DAYLIGHT
BEGIN:STANDARD
TZOFFSETFROM:-0400
TZOFFSETTO:-0500
TZNAME:EST
DTSTART:20171105T060000
END:STANDARD
END:VTIMEZONE
BEGIN:VEVENT
DTSTART;TZID=America/New_York:20170315T170000
DTEND;TZID=America/New_York:20170315T200000
DTSTAMP:20260425T161159
CREATED:20170315T090121Z
LAST-MODIFIED:20170315T090121Z
UID:2088910-1489597200-1489608000@ocmannproperties.com
SUMMARY:Sir Rod
DESCRIPTION:Tommy Edward has captured the wild hair\, the sweet soulful raspy voice and the body language of the real Rod Stewart himself. \n 
URL:https://ocmannproperties.com/event/sir-rod-3/
END:VEVENT
BEGIN:VEVENT
DTSTART;TZID=America/New_York:20170315T170000
DTEND;TZID=America/New_York:20170315T200000
DTSTAMP:20260425T161159
CREATED:20170315T210126Z
LAST-MODIFIED:20170315T210126Z
UID:2088911-1489597200-1489608000@ocmannproperties.com
SUMMARY:Sir Rod
DESCRIPTION:Tommy Edward has captured the wild hair\, the sweet soulful raspy voice and the body language of the real Rod Stewart himself. \n 
URL:https://ocmannproperties.com/event/sir-rod-4/
END:VEVENT
END:VCALENDAR