BEGIN:VCALENDAR
VERSION:2.0
PRODID:-//Ocean City MD Property Management - ECPv5.12.3//NONSGML v1.0//EN
CALSCALE:GREGORIAN
METHOD:PUBLISH
X-WR-CALNAME:Ocean City MD Property Management
X-ORIGINAL-URL:https://ocmannproperties.com
X-WR-CALDESC:Events for Ocean City MD Property Management
BEGIN:VTIMEZONE
TZID:America/New_York
BEGIN:DAYLIGHT
TZOFFSETFROM:-0500
TZOFFSETTO:-0400
TZNAME:EDT
DTSTART:20170312T070000
END:DAYLIGHT
BEGIN:STANDARD
TZOFFSETFROM:-0400
TZOFFSETTO:-0500
TZNAME:EST
DTSTART:20171105T060000
END:STANDARD
END:VTIMEZONE
BEGIN:VEVENT
DTSTART;TZID=America/New_York:20170324T173000
DTEND;TZID=America/New_York:20170324T193000
DTSTAMP:20260425T161027
CREATED:20170324T090140Z
LAST-MODIFIED:20170324T090140Z
UID:2088945-1490376600-1490383800@ocmannproperties.com
SUMMARY:Kids Pizza and Pottery | Make A Monster Mug
DESCRIPTION:Enjoy a pizza dinner\, then make a Monster Mug out of clay.  All clay\, materials and pizza included in the the cost. \n \nInstructor:\nNancy Barnas\n \nCost:\n$30 members\n$38 non members
URL:https://ocmannproperties.com/event/kids-pizza-and-pottery-make-a-monster-mug-2/
END:VEVENT
BEGIN:VEVENT
DTSTART;TZID=America/New_York:20170324T173000
DTEND;TZID=America/New_York:20170324T193000
DTSTAMP:20260425T161027
CREATED:20170324T205829Z
LAST-MODIFIED:20170324T205829Z
UID:2088946-1490376600-1490383800@ocmannproperties.com
SUMMARY:Kids Pizza and Pottery | Make A Monster Mug
DESCRIPTION:Enjoy a pizza dinner\, then make a Monster Mug out of clay.  All clay\, materials and pizza included in the the cost. \n \nInstructor:\nNancy Barnas\n \nCost:\n$30 members\n$38 non members
URL:https://ocmannproperties.com/event/kids-pizza-and-pottery-make-a-monster-mug-3/
END:VEVENT
END:VCALENDAR