BEGIN:VCALENDAR
VERSION:2.0
PRODID:-//Ocean City MD Property Management - ECPv5.12.3//NONSGML v1.0//EN
CALSCALE:GREGORIAN
METHOD:PUBLISH
X-WR-CALNAME:Ocean City MD Property Management
X-ORIGINAL-URL:https://ocmannproperties.com
X-WR-CALDESC:Events for Ocean City MD Property Management
BEGIN:VTIMEZONE
TZID:America/New_York
BEGIN:DAYLIGHT
TZOFFSETFROM:-0500
TZOFFSETTO:-0400
TZNAME:EDT
DTSTART:20170312T070000
END:DAYLIGHT
BEGIN:STANDARD
TZOFFSETFROM:-0400
TZOFFSETTO:-0500
TZNAME:EST
DTSTART:20171105T060000
END:STANDARD
END:VTIMEZONE
BEGIN:VEVENT
DTSTART;TZID=America/New_York:20170401T001500
DTEND;TZID=America/New_York:20170401T001500
DTSTAMP:20260425T140837
CREATED:20170401T085902Z
LAST-MODIFIED:20170401T085902Z
UID:2088971-1491005700-1491005700@ocmannproperties.com
SUMMARY:Ocean City Surfin' Softball Slam
DESCRIPTION:Girls’ fast-pitch softball returns to Northside Park in Ocean City\, MD!  Teams will load the bases and hit homeruns at this great event. To sign up\, visit usssa.com.   \n \nFor more information\, call Chris Clarke\, OC Recreation & Parks\, at 410-250-0125.
URL:https://ocmannproperties.com/event/ocean-city-surfin-softball-slam/
END:VEVENT
BEGIN:VEVENT
DTSTART;TZID=America/New_York:20170401T001500
DTEND;TZID=America/New_York:20170401T001500
DTSTAMP:20260425T140837
CREATED:20170401T210128Z
LAST-MODIFIED:20170401T210128Z
UID:2088972-1491005700-1491005700@ocmannproperties.com
SUMMARY:Ocean City Surfin' Softball Slam
DESCRIPTION:Girls’ fast-pitch softball returns to Northside Park in Ocean City\, MD!  Teams will load the bases and hit homeruns at this great event. To sign up\, visit usssa.com.   \n \nFor more information\, call Chris Clarke\, OC Recreation & Parks\, at 410-250-0125.
URL:https://ocmannproperties.com/event/ocean-city-surfin-softball-slam-2/
END:VEVENT
END:VCALENDAR