BEGIN:VCALENDAR
VERSION:2.0
PRODID:-//Ocean City MD Property Management - ECPv5.12.3//NONSGML v1.0//EN
CALSCALE:GREGORIAN
METHOD:PUBLISH
X-WR-CALNAME:Ocean City MD Property Management
X-ORIGINAL-URL:https://ocmannproperties.com
X-WR-CALDESC:Events for Ocean City MD Property Management
BEGIN:VTIMEZONE
TZID:America/New_York
BEGIN:DAYLIGHT
TZOFFSETFROM:-0500
TZOFFSETTO:-0400
TZNAME:EDT
DTSTART:20170312T070000
END:DAYLIGHT
BEGIN:STANDARD
TZOFFSETFROM:-0400
TZOFFSETTO:-0500
TZNAME:EST
DTSTART:20171105T060000
END:STANDARD
END:VTIMEZONE
BEGIN:VEVENT
DTSTART;TZID=America/New_York:20170416T060000
DTEND;TZID=America/New_York:20170416T070000
DTSTAMP:20260425T140837
CREATED:20170416T090212Z
LAST-MODIFIED:20170416T090212Z
UID:2089001-1492322400-1492326000@ocmannproperties.com
SUMMARY:Easter Sunrise Service
DESCRIPTION:Easter Sunrise Worship – 6:00 a.m.  Open to all.  Sponsored by Ocean City Christian Ministers Association.
URL:https://ocmannproperties.com/event/easter-sunrise-service/
END:VEVENT
BEGIN:VEVENT
DTSTART;TZID=America/New_York:20170416T060000
DTEND;TZID=America/New_York:20170416T070000
DTSTAMP:20260425T140837
CREATED:20170416T205929Z
LAST-MODIFIED:20170416T205929Z
UID:2089002-1492322400-1492326000@ocmannproperties.com
SUMMARY:Easter Sunrise Service
DESCRIPTION:Easter Sunrise Worship – 6:00 a.m.  Open to all.  Sponsored by Ocean City Christian Ministers Association.
URL:https://ocmannproperties.com/event/easter-sunrise-service-2/
END:VEVENT
END:VCALENDAR