BEGIN:VCALENDAR
VERSION:2.0
PRODID:-//Ocean City MD Property Management - ECPv5.12.3//NONSGML v1.0//EN
CALSCALE:GREGORIAN
METHOD:PUBLISH
X-WR-CALNAME:Ocean City MD Property Management
X-ORIGINAL-URL:https://ocmannproperties.com
X-WR-CALDESC:Events for Ocean City MD Property Management
BEGIN:VTIMEZONE
TZID:America/New_York
BEGIN:DAYLIGHT
TZOFFSETFROM:-0500
TZOFFSETTO:-0400
TZNAME:EDT
DTSTART:20170312T070000
END:DAYLIGHT
BEGIN:STANDARD
TZOFFSETFROM:-0400
TZOFFSETTO:-0500
TZNAME:EST
DTSTART:20171105T060000
END:STANDARD
END:VTIMEZONE
BEGIN:VEVENT
DTSTART;VALUE=DATE:20170421
DTEND;VALUE=DATE:20170422
DTSTAMP:20260425T140950
CREATED:20170421T085923Z
LAST-MODIFIED:20170421T085923Z
UID:2089011-1492732800-1492819199@ocmannproperties.com
SUMMARY:Sherri Jones Weekend
DESCRIPTION:Sherri Jones teaches “The Lounging Hare Sewing Box” and “A Gift by Hand Conferred” at Salty Yarns.   \n \nTake one or both classes!\n \nTo make a reservation for either of these classes\, please contact Sara or Sally at Salty Yarns\, (410) 289-4667\, or e-mail saltyyarns@aol.com
URL:https://ocmannproperties.com/event/sherri-jones-weekend/
END:VEVENT
BEGIN:VEVENT
DTSTART;VALUE=DATE:20170421
DTEND;VALUE=DATE:20170422
DTSTAMP:20260425T140950
CREATED:20170421T205851Z
LAST-MODIFIED:20170421T205851Z
UID:2089012-1492732800-1492819199@ocmannproperties.com
SUMMARY:Sherri Jones Weekend
DESCRIPTION:Sherri Jones teaches “The Lounging Hare Sewing Box” and “A Gift by Hand Conferred” at Salty Yarns.   \n \nTake one or both classes!\n \nTo make a reservation for either of these classes\, please contact Sara or Sally at Salty Yarns\, (410) 289-4667\, or e-mail saltyyarns@aol.com
URL:https://ocmannproperties.com/event/sherri-jones-weekend-2/
END:VEVENT
END:VCALENDAR