BEGIN:VCALENDAR
VERSION:2.0
PRODID:-//Ocean City MD Property Management - ECPv5.12.3//NONSGML v1.0//EN
CALSCALE:GREGORIAN
METHOD:PUBLISH
X-WR-CALNAME:Ocean City MD Property Management
X-ORIGINAL-URL:https://ocmannproperties.com
X-WR-CALDESC:Events for Ocean City MD Property Management
BEGIN:VTIMEZONE
TZID:America/New_York
BEGIN:DAYLIGHT
TZOFFSETFROM:-0500
TZOFFSETTO:-0400
TZNAME:EDT
DTSTART:20170312T070000
END:DAYLIGHT
BEGIN:STANDARD
TZOFFSETFROM:-0400
TZOFFSETTO:-0500
TZNAME:EST
DTSTART:20171105T060000
END:STANDARD
END:VTIMEZONE
BEGIN:VEVENT
DTSTART;TZID=America/New_York:20170614T100000
DTEND;TZID=America/New_York:20170614T110000
DTSTAMP:20260425T103154
CREATED:20170614T090141Z
LAST-MODIFIED:20170614T090141Z
UID:2089140-1497434400-1497438000@ocmannproperties.com
SUMMARY:Mahjong or Cards
DESCRIPTION:Come to the Ocean City Senior Center for mahjong or cards!
URL:https://ocmannproperties.com/event/mahjong-or-cards-21/
END:VEVENT
BEGIN:VEVENT
DTSTART;TZID=America/New_York:20170614T100000
DTEND;TZID=America/New_York:20170614T110000
DTSTAMP:20260425T103154
CREATED:20170614T210004Z
LAST-MODIFIED:20170614T210004Z
UID:2089141-1497434400-1497438000@ocmannproperties.com
SUMMARY:Mahjong or Cards
DESCRIPTION:Come to the Ocean City Senior Center for mahjong or cards!
URL:https://ocmannproperties.com/event/mahjong-or-cards-22/
END:VEVENT
END:VCALENDAR