BEGIN:VCALENDAR
VERSION:2.0
PRODID:-//Ocean City MD Property Management - ECPv5.12.3//NONSGML v1.0//EN
CALSCALE:GREGORIAN
METHOD:PUBLISH
X-WR-CALNAME:Ocean City MD Property Management
X-ORIGINAL-URL:https://ocmannproperties.com
X-WR-CALDESC:Events for Ocean City MD Property Management
BEGIN:VTIMEZONE
TZID:America/New_York
BEGIN:DAYLIGHT
TZOFFSETFROM:-0500
TZOFFSETTO:-0400
TZNAME:EDT
DTSTART:20170312T070000
END:DAYLIGHT
BEGIN:STANDARD
TZOFFSETFROM:-0400
TZOFFSETTO:-0500
TZNAME:EST
DTSTART:20171105T060000
END:STANDARD
END:VTIMEZONE
BEGIN:VEVENT
DTSTART;VALUE=DATE:20170701
DTEND;VALUE=DATE:20170702
DTSTAMP:20260425T083954
CREATED:20170701T090056Z
LAST-MODIFIED:20170701T090056Z
UID:2089175-1498867200-1498953599@ocmannproperties.com
SUMMARY:Canyon Kick Off Marlin Club Tournament
DESCRIPTION:Canyon Kick Off Marlin Club Tournament at Sunset Marina in Ocean City MD.  Join the tournament or just come and watch! \n \nWeigh ins can be observed from 5:00pm – 7:30pm at Sunset Marina on June 30\, July 1 and 2
URL:https://ocmannproperties.com/event/canyon-kick-off-marlin-club-tournament-3/
END:VEVENT
BEGIN:VEVENT
DTSTART;VALUE=DATE:20170701
DTEND;VALUE=DATE:20170702
DTSTAMP:20260425T083954
CREATED:20170701T205824Z
LAST-MODIFIED:20170701T205824Z
UID:2089176-1498867200-1498953599@ocmannproperties.com
SUMMARY:Canyon Kick Off Marlin Club Tournament
DESCRIPTION:Canyon Kick Off Marlin Club Tournament at Sunset Marina in Ocean City MD.  Join the tournament or just come and watch! \n \nWeigh ins can be observed from 5:00pm – 7:30pm at Sunset Marina on June 30\, July 1 and 2
URL:https://ocmannproperties.com/event/canyon-kick-off-marlin-club-tournament-4/
END:VEVENT
END:VCALENDAR