BEGIN:VCALENDAR
VERSION:2.0
PRODID:-//Ocean City MD Property Management - ECPv5.12.3//NONSGML v1.0//EN
CALSCALE:GREGORIAN
METHOD:PUBLISH
X-WR-CALNAME:Ocean City MD Property Management
X-ORIGINAL-URL:https://ocmannproperties.com
X-WR-CALDESC:Events for Ocean City MD Property Management
BEGIN:VTIMEZONE
TZID:America/New_York
BEGIN:DAYLIGHT
TZOFFSETFROM:-0500
TZOFFSETTO:-0400
TZNAME:EDT
DTSTART:20170312T070000
END:DAYLIGHT
BEGIN:STANDARD
TZOFFSETFROM:-0400
TZOFFSETTO:-0500
TZNAME:EST
DTSTART:20171105T060000
END:STANDARD
END:VTIMEZONE
BEGIN:VEVENT
DTSTART;VALUE=DATE:20170703
DTEND;VALUE=DATE:20170704
DTSTAMP:20260425T084051
CREATED:20170703T090907Z
LAST-MODIFIED:20170703T090907Z
UID:2089179-1499040000-1499126399@ocmannproperties.com
SUMMARY:Military Monday
DESCRIPTION:Active and retired military heroes save 10% on Military Monday at Hooters of West Ocean City 
URL:https://ocmannproperties.com/event/military-monday-25/
END:VEVENT
BEGIN:VEVENT
DTSTART;VALUE=DATE:20170703
DTEND;VALUE=DATE:20170704
DTSTAMP:20260425T084051
CREATED:20170703T205958Z
LAST-MODIFIED:20170703T205958Z
UID:2089180-1499040000-1499126399@ocmannproperties.com
SUMMARY:Military Monday
DESCRIPTION:Active and retired military heroes save 10% on Military Monday at Hooters of West Ocean City 
URL:https://ocmannproperties.com/event/military-monday-26/
END:VEVENT
END:VCALENDAR